BEGIN:VCALENDAR
VERSION:2.0
PRODID:-//C3SC - Cardiff Third Sector Council - ECPv6.15.17//NONSGML v1.0//EN
CALSCALE:GREGORIAN
METHOD:PUBLISH
X-WR-CALNAME:C3SC - Cardiff Third Sector Council
X-ORIGINAL-URL:https://c3sc.org.uk
X-WR-CALDESC:Events for C3SC - Cardiff Third Sector Council
REFRESH-INTERVAL;VALUE=DURATION:PT1H
X-Robots-Tag:noindex
X-PUBLISHED-TTL:PT1H
BEGIN:VTIMEZONE
TZID:Europe/London
BEGIN:DAYLIGHT
TZOFFSETFROM:+0000
TZOFFSETTO:+0100
TZNAME:BST
DTSTART:20180325T010000
END:DAYLIGHT
BEGIN:STANDARD
TZOFFSETFROM:+0100
TZOFFSETTO:+0000
TZNAME:GMT
DTSTART:20181028T010000
END:STANDARD
BEGIN:DAYLIGHT
TZOFFSETFROM:+0000
TZOFFSETTO:+0100
TZNAME:BST
DTSTART:20190331T010000
END:DAYLIGHT
BEGIN:STANDARD
TZOFFSETFROM:+0100
TZOFFSETTO:+0000
TZNAME:GMT
DTSTART:20191027T010000
END:STANDARD
BEGIN:DAYLIGHT
TZOFFSETFROM:+0000
TZOFFSETTO:+0100
TZNAME:BST
DTSTART:20200329T010000
END:DAYLIGHT
BEGIN:STANDARD
TZOFFSETFROM:+0100
TZOFFSETTO:+0000
TZNAME:GMT
DTSTART:20201025T010000
END:STANDARD
END:VTIMEZONE
BEGIN:VEVENT
DTSTART;TZID=Europe/London:20190430T140000
DTEND;TZID=Europe/London:20190430T153000
DTSTAMP:20260426T051400
CREATED:20190401T123439Z
LAST-MODIFIED:20190401T123439Z
UID:50000-1556632800-1556638200@c3sc.org.uk
SUMMARY:Value For Money (VFM) Discussion Café
DESCRIPTION:Value For Money (VFM) Discussion Café \n\n\n\n\n\n\n\n\n\n\n\n\n\n\nWhen: Tuesday 30th April 2019\, 14:00 – 15:30 \nWhere: WCVA Harbour room\, Baltic House\, Mount Stuart Square\, Cardiff\, CF10 5FH \nPlease  REGISTER  to confirm your place. \nContinuing financial adversity among not-for-profit organisations\, coupled with the need to ensure client needs are actually being achieved\, has seen greater emphasis on ensuring value-for-money (VFM) in operational activities. However\, the focus on achieving successful long-term outcomes\, the needs of a diverse stakeholder base and the prevailing economic climate\, means that achieving value-for-money in not-for-profit organisations is increasingly difficult. \nThis discussion café is collaboration between UWE Bristol and C3SC offering an opportunity for not-for-profit organisations to meet to explore Value-for-Money (VFM) in its widest sense\, where participants will hopefully support and inspire each other with the aim of improving VFM in their respective organisations. Topics to be discussed will potentially include: \n\nhow VFM is assessed\ndecision-making processes that drive VFM\, appropriate performance measures that contribute and support VFM\nhow VFM is embedded and championed in not-for-profit organisations.\n\nDiscussions will not include any political dimensions or the necessity to disclose any sensitive information. All participants will agree to keep discussions anonymous. \nThe event is in collaboration with C3SC and will be chaired by Dr Carl Evans of University of the West of England (UWE)\, Bristol\, who is undertaking BAFA funded research exploring VFM in the charity sector. It is hoped that the research findings from this project will identify aspects of best-practice that could be adopted by organisations in the sector and will potentially lead to a model of best practice or VFM in the charity sector being developed. \nFor more informationcontact: \nCraig Lennox\, Senior Research and Business Development Manager \nTelephone: +44 (0)117 32 85231 Email: craig.lennox@uwe.ac.uk \n\n\n\n\n\n\n\n\n \nPlease Note: \nDiscussions will not include political dimensions or the necessity to disclose any sensitive examples. All information that is collected about your organisation will be kept anonymous. \n  \nREGISTER
URL:https://c3sc.org.uk/event-single/value-for-money-vfm-discussion-cafe/
LOCATION:WCVA Harbour room\, Baltic House\, Mount Stuart Square\, Cardiff\, CF10 5FH\, WCVA Harbour room\, Baltic House\, Mount Stuart Square\, Cardiff\, CF10 5FH 
CATEGORIES:Event
END:VEVENT
END:VCALENDAR