BEGIN:VCALENDAR
VERSION:2.0
PRODID:-//C3SC - Cardiff Third Sector Council - ECPv6.15.17//NONSGML v1.0//EN
CALSCALE:GREGORIAN
METHOD:PUBLISH
X-WR-CALNAME:C3SC - Cardiff Third Sector Council
X-ORIGINAL-URL:https://c3sc.org.uk
X-WR-CALDESC:Events for C3SC - Cardiff Third Sector Council
REFRESH-INTERVAL;VALUE=DURATION:PT1H
X-Robots-Tag:noindex
X-PUBLISHED-TTL:PT1H
BEGIN:VTIMEZONE
TZID:Europe/London
BEGIN:DAYLIGHT
TZOFFSETFROM:+0000
TZOFFSETTO:+0100
TZNAME:BST
DTSTART:20130331T010000
END:DAYLIGHT
BEGIN:STANDARD
TZOFFSETFROM:+0100
TZOFFSETTO:+0000
TZNAME:GMT
DTSTART:20131027T010000
END:STANDARD
BEGIN:DAYLIGHT
TZOFFSETFROM:+0000
TZOFFSETTO:+0100
TZNAME:BST
DTSTART:20140330T010000
END:DAYLIGHT
BEGIN:STANDARD
TZOFFSETFROM:+0100
TZOFFSETTO:+0000
TZNAME:GMT
DTSTART:20141026T010000
END:STANDARD
BEGIN:DAYLIGHT
TZOFFSETFROM:+0000
TZOFFSETTO:+0100
TZNAME:BST
DTSTART:20150329T010000
END:DAYLIGHT
BEGIN:STANDARD
TZOFFSETFROM:+0100
TZOFFSETTO:+0000
TZNAME:GMT
DTSTART:20151025T010000
END:STANDARD
END:VTIMEZONE
BEGIN:VEVENT
DTSTART;TZID=Europe/London:20140305T093000
DTEND;TZID=Europe/London:20140305T123000
DTSTAMP:20260424T234931
CREATED:20140305T093000Z
LAST-MODIFIED:20140305T093000Z
UID:46430-1394011800-1394022600@c3sc.org.uk
SUMMARY:Understanding Hate Crime
DESCRIPTION:A Diverse Cymru half-day course \nThis workshop will enable you to: \n – Recognise hate crime – Know what to do if you suspect a hate crime has been committed – Identify strategies for dealing with it and improving reporting of attacks \nWho should attend? \nThe workshop will be of interest to\, for example\, anyone who works within the justice system\, community development\, schools\, colleges\, advice workers\, health\, social care\, equality organisations and anyone whose role may enable raising awareness of hate crime or dealing with victims of it. \nCost: £55 per person   \nFind out more at http://www.diversecymrutraining.org.uk/understanding-hate-crime/
URL:https://c3sc.org.uk/event-single/understanding-hate-crime-6/
LOCATION:Lysaght Institute\, Orb Drive off Corporation Road\, Newport NP19 0RA\, Lysaght Institute\, Orb Drive off Corporation Road\, Newport NP19 0RA
CATEGORIES:Training
END:VEVENT
END:VCALENDAR