BEGIN:VCALENDAR
VERSION:2.0
PRODID:-//C3SC - Cardiff Third Sector Council - ECPv6.15.17//NONSGML v1.0//EN
CALSCALE:GREGORIAN
METHOD:PUBLISH
X-WR-CALNAME:C3SC - Cardiff Third Sector Council
X-ORIGINAL-URL:https://c3sc.org.uk
X-WR-CALDESC:Events for C3SC - Cardiff Third Sector Council
REFRESH-INTERVAL;VALUE=DURATION:PT1H
X-Robots-Tag:noindex
X-PUBLISHED-TTL:PT1H
BEGIN:VTIMEZONE
TZID:Europe/London
BEGIN:DAYLIGHT
TZOFFSETFROM:+0000
TZOFFSETTO:+0100
TZNAME:BST
DTSTART:20170326T010000
END:DAYLIGHT
BEGIN:STANDARD
TZOFFSETFROM:+0100
TZOFFSETTO:+0000
TZNAME:GMT
DTSTART:20171029T010000
END:STANDARD
BEGIN:DAYLIGHT
TZOFFSETFROM:+0000
TZOFFSETTO:+0100
TZNAME:BST
DTSTART:20180325T010000
END:DAYLIGHT
BEGIN:STANDARD
TZOFFSETFROM:+0100
TZOFFSETTO:+0000
TZNAME:GMT
DTSTART:20181028T010000
END:STANDARD
BEGIN:DAYLIGHT
TZOFFSETFROM:+0000
TZOFFSETTO:+0100
TZNAME:BST
DTSTART:20190331T010000
END:DAYLIGHT
BEGIN:STANDARD
TZOFFSETFROM:+0100
TZOFFSETTO:+0000
TZNAME:GMT
DTSTART:20191027T010000
END:STANDARD
END:VTIMEZONE
BEGIN:VEVENT
DTSTART;VALUE=DATE:20180126
DTEND;VALUE=DATE:20180127
DTSTAMP:20260425T211650
CREATED:20180115T110042Z
LAST-MODIFIED:20180115T110042Z
UID:49601-1516924800-1517011199@c3sc.org.uk
SUMMARY:Understanding and Responding to Bullying Behaviours
DESCRIPTION:A One Day Course \nIn a recent survey by Ditch the Label 50% of young people stated they had been bullied at some point\, with 11% stating they are bullied on a daily basis.  Of those young people reporting being bullied 44% developed depression\, 41% developed social anxiety and 33% had suicidal thoughts. The impact of bullying behaviours has a detrimental impact on social\, emotional and academic development. The consequences of such behaviours extend beyond the target and effects those caught up within the bullying cycle. Understanding bullying and identifying what works in preventing such behaviours is key to establishing safe\, caring and supportive environments where such behaviours are unacceptable and not tolerated. \nThis course will help you look at ways of supporting children and young people to develop the skills needed to develop healthy relationships. \nFind out more and book a place online via the Children in Wales website
URL:https://c3sc.org.uk/event-single/understanding-and-responding-to-bullying-behaviours-3/
LOCATION:Cardiff\, Cardiff
CATEGORIES:Training
END:VEVENT
END:VCALENDAR