BEGIN:VCALENDAR
VERSION:2.0
PRODID:-//C3SC - Cardiff Third Sector Council - ECPv6.15.17//NONSGML v1.0//EN
CALSCALE:GREGORIAN
METHOD:PUBLISH
X-WR-CALNAME:C3SC - Cardiff Third Sector Council
X-ORIGINAL-URL:https://c3sc.org.uk
X-WR-CALDESC:Events for C3SC - Cardiff Third Sector Council
REFRESH-INTERVAL;VALUE=DURATION:PT1H
X-Robots-Tag:noindex
X-PUBLISHED-TTL:PT1H
BEGIN:VTIMEZONE
TZID:Europe/London
BEGIN:DAYLIGHT
TZOFFSETFROM:+0000
TZOFFSETTO:+0100
TZNAME:BST
DTSTART:20110327T010000
END:DAYLIGHT
BEGIN:STANDARD
TZOFFSETFROM:+0100
TZOFFSETTO:+0000
TZNAME:GMT
DTSTART:20111030T010000
END:STANDARD
BEGIN:DAYLIGHT
TZOFFSETFROM:+0000
TZOFFSETTO:+0100
TZNAME:BST
DTSTART:20120325T010000
END:DAYLIGHT
BEGIN:STANDARD
TZOFFSETFROM:+0100
TZOFFSETTO:+0000
TZNAME:GMT
DTSTART:20121028T010000
END:STANDARD
BEGIN:DAYLIGHT
TZOFFSETFROM:+0000
TZOFFSETTO:+0100
TZNAME:BST
DTSTART:20130331T010000
END:DAYLIGHT
BEGIN:STANDARD
TZOFFSETFROM:+0100
TZOFFSETTO:+0000
TZNAME:GMT
DTSTART:20131027T010000
END:STANDARD
END:VTIMEZONE
BEGIN:VEVENT
DTSTART;TZID=Europe/London:20120430T180000
DTEND;TZID=Europe/London:20120430T200000
DTSTAMP:20260423T121549
CREATED:20120430T170000Z
LAST-MODIFIED:20120430T170000Z
UID:44428-1335808800-1335816000@c3sc.org.uk
SUMMARY:Timeplace Community Training
DESCRIPTION:Timeplace is the Ely/Caerau Time Credits Scheme. \nCome to this fun\, interactive event where you can discover new and better ways to link with the Ely/Caerau community. \n – Discover new support available to help your group/organisation reach its aims and objectives – Learn how you can thank your volunteers with time credits and link with other organisations – Have the opportunity to join the Ely/Caerau time credits scheme – To reserve your FREE place\, please visit http://timeplace-auto.eventbrite.com
URL:https://c3sc.org.uk/event-single/timeplace-community-training-2/
LOCATION:St Tim’s church\, Caerau\, St Tim's church\, Caerau
CATEGORIES:Event
END:VEVENT
END:VCALENDAR