BEGIN:VCALENDAR
VERSION:2.0
PRODID:-//C3SC - Cardiff Third Sector Council - ECPv6.15.17//NONSGML v1.0//EN
CALSCALE:GREGORIAN
METHOD:PUBLISH
X-WR-CALNAME:C3SC - Cardiff Third Sector Council
X-ORIGINAL-URL:https://c3sc.org.uk
X-WR-CALDESC:Events for C3SC - Cardiff Third Sector Council
REFRESH-INTERVAL;VALUE=DURATION:PT1H
X-Robots-Tag:noindex
X-PUBLISHED-TTL:PT1H
BEGIN:VTIMEZONE
TZID:Europe/London
BEGIN:DAYLIGHT
TZOFFSETFROM:+0000
TZOFFSETTO:+0100
TZNAME:BST
DTSTART:20180325T010000
END:DAYLIGHT
BEGIN:STANDARD
TZOFFSETFROM:+0100
TZOFFSETTO:+0000
TZNAME:GMT
DTSTART:20181028T010000
END:STANDARD
BEGIN:DAYLIGHT
TZOFFSETFROM:+0000
TZOFFSETTO:+0100
TZNAME:BST
DTSTART:20190331T010000
END:DAYLIGHT
BEGIN:STANDARD
TZOFFSETFROM:+0100
TZOFFSETTO:+0000
TZNAME:GMT
DTSTART:20191027T010000
END:STANDARD
BEGIN:DAYLIGHT
TZOFFSETFROM:+0000
TZOFFSETTO:+0100
TZNAME:BST
DTSTART:20200329T010000
END:DAYLIGHT
BEGIN:STANDARD
TZOFFSETFROM:+0100
TZOFFSETTO:+0000
TZNAME:GMT
DTSTART:20201025T010000
END:STANDARD
END:VTIMEZONE
BEGIN:VEVENT
DTSTART;TZID=Europe/London:20190408T093000
DTEND;TZID=Europe/London:20190408T143000
DTSTAMP:20260425T161906
CREATED:20190401T123043Z
LAST-MODIFIED:20190401T123043Z
UID:49994-1554715800-1554733800@c3sc.org.uk
SUMMARY:Third Sector Equality Engagement Event / Digwyddiad Ymgysylltiad Cydraddoldeb Trydydd Sector
DESCRIPTION:On behalf of University of South Wales\, Cardiff University and Cardiff Metropolitan University\, you are invited their joint consultative Third Sector Equality Engagement Event on Monday 8th April\, 09:30 – 14:30 at University of South Wales (ATRiuM Building)\, Cardiff\, CF24 2FN. \nThe aim of this networking event will be to review together equality barriers to Higher Education and the needs of our Community.  Your views will directly contribute to developing our University equality objectives and plans. \nIf you or a representative from your organisation would be interested in attending this event\, please could you confirm your attendance by Monday\, 1st April 2019 with your name and any access and/or dietary requirements.
URL:https://c3sc.org.uk/event-single/third-sector-equality-engagement-event-digwyddiad-ymgysylltiad-cydraddoldeb-trydydd-sector/
LOCATION:University of South Wales (ATRiuM Building)\, Cardiff\, CF24 2FN.\, University of South Wales (ATRiuM Building)\, Cardiff\, CF24 2FN.
CATEGORIES:Event
END:VEVENT
END:VCALENDAR