BEGIN:VCALENDAR
VERSION:2.0
PRODID:-//C3SC - Cardiff Third Sector Council - ECPv6.15.17//NONSGML v1.0//EN
CALSCALE:GREGORIAN
METHOD:PUBLISH
X-WR-CALNAME:C3SC - Cardiff Third Sector Council
X-ORIGINAL-URL:https://c3sc.org.uk
X-WR-CALDESC:Events for C3SC - Cardiff Third Sector Council
REFRESH-INTERVAL;VALUE=DURATION:PT1H
X-Robots-Tag:noindex
X-PUBLISHED-TTL:PT1H
BEGIN:VTIMEZONE
TZID:Europe/London
BEGIN:DAYLIGHT
TZOFFSETFROM:+0000
TZOFFSETTO:+0100
TZNAME:BST
DTSTART:20130331T010000
END:DAYLIGHT
BEGIN:STANDARD
TZOFFSETFROM:+0100
TZOFFSETTO:+0000
TZNAME:GMT
DTSTART:20131027T010000
END:STANDARD
BEGIN:DAYLIGHT
TZOFFSETFROM:+0000
TZOFFSETTO:+0100
TZNAME:BST
DTSTART:20140330T010000
END:DAYLIGHT
BEGIN:STANDARD
TZOFFSETFROM:+0100
TZOFFSETTO:+0000
TZNAME:GMT
DTSTART:20141026T010000
END:STANDARD
BEGIN:DAYLIGHT
TZOFFSETFROM:+0000
TZOFFSETTO:+0100
TZNAME:BST
DTSTART:20150329T010000
END:DAYLIGHT
BEGIN:STANDARD
TZOFFSETFROM:+0100
TZOFFSETTO:+0000
TZNAME:GMT
DTSTART:20151025T010000
END:STANDARD
END:VTIMEZONE
BEGIN:VEVENT
DTSTART;TZID=Europe/London:20140512T113000
DTEND;TZID=Europe/London:20140512T130000
DTSTAMP:20260424T052153
CREATED:20140512T103000Z
LAST-MODIFIED:20140512T103000Z
UID:46596-1399894200-1399899600@c3sc.org.uk
SUMMARY:Tackling Hate Crimes and Incidents: A Framework for Action - Launch event
DESCRIPTION:Jeff Cuthbert AM\, the Minister for Communities and Tackling Poverty will launch Tackling Hate Crimes and Incidents: A Framework for Action at The Senedd\, Cardiff Bay on 12 May 2014\, 11.30am until 1pm.   \nDuring the event\, Victim Support will present the new All Wales Hate Crime Reporting Centre. There will also be a showcase of exciting new projects from Taking Flight Theatre Forum\, Save the Children and the Welsh Refugee Council. You will also hear from ACPO Cymru lead T/ACC Pam Kelly on tackling hate crime in partnership and Christian Roberts from Show Racism the Red Card (ex professional footballer) on the challenges across Wales and working with children and young people to tackle hostility and prejudice. \nIf you would like to attend\, please register your interest by 30 April 2014 via the following link: \n  \nEnglish: http://wales.gov.uk/topics/equality/rightsequality/hate-crime/hate-crime-framework-launch/?lang=en  \n  \nWelsh: http://cymru.gov.uk/topics/equality/rightsequality/hate-crime/hate-crime-framework-launch/?lang=cy  \n  \nYour place will then be confirmed via e-mail by 2 May 2014. 
URL:https://c3sc.org.uk/event-single/tackling-hate-crimes-and-incidents-a-framework-for-action-launch-event/
LOCATION:Y Senedd\, Cardiff Bay\, Y Senedd\, Cardiff Bay
CATEGORIES:Event
END:VEVENT
END:VCALENDAR