BEGIN:VCALENDAR
VERSION:2.0
PRODID:-//C3SC - Cardiff Third Sector Council - ECPv6.15.17//NONSGML v1.0//EN
CALSCALE:GREGORIAN
METHOD:PUBLISH
X-WR-CALNAME:C3SC - Cardiff Third Sector Council
X-ORIGINAL-URL:https://c3sc.org.uk
X-WR-CALDESC:Events for C3SC - Cardiff Third Sector Council
REFRESH-INTERVAL;VALUE=DURATION:PT1H
X-Robots-Tag:noindex
X-PUBLISHED-TTL:PT1H
BEGIN:VTIMEZONE
TZID:Europe/London
BEGIN:DAYLIGHT
TZOFFSETFROM:+0000
TZOFFSETTO:+0100
TZNAME:BST
DTSTART:20160327T010000
END:DAYLIGHT
BEGIN:STANDARD
TZOFFSETFROM:+0100
TZOFFSETTO:+0000
TZNAME:GMT
DTSTART:20161030T010000
END:STANDARD
BEGIN:DAYLIGHT
TZOFFSETFROM:+0000
TZOFFSETTO:+0100
TZNAME:BST
DTSTART:20170326T010000
END:DAYLIGHT
BEGIN:STANDARD
TZOFFSETFROM:+0100
TZOFFSETTO:+0000
TZNAME:GMT
DTSTART:20171029T010000
END:STANDARD
BEGIN:DAYLIGHT
TZOFFSETFROM:+0000
TZOFFSETTO:+0100
TZNAME:BST
DTSTART:20180325T010000
END:DAYLIGHT
BEGIN:STANDARD
TZOFFSETFROM:+0100
TZOFFSETTO:+0000
TZNAME:GMT
DTSTART:20181028T010000
END:STANDARD
END:VTIMEZONE
BEGIN:VEVENT
DTSTART;TZID=Europe/London:20170911T091500
DTEND;TZID=Europe/London:20170911T160000
DTSTAMP:20260425T151352
CREATED:20170719T093509Z
LAST-MODIFIED:20170719T093509Z
UID:49334-1505121300-1505145600@c3sc.org.uk
SUMMARY:Steroid and Image Enhancing Drugs (SIEDs)
DESCRIPTION:This course has been developed in partnership with Public Heath Wales and aims to bring an understanding about Steroid and Image Enhancing Drug use and the impact that these can have on individuals. The course covers the following\, the main categories of SIEDs\, motivations for using SIEDs\, how SIEDs are used and their risks\, and understanding how to engage with SIEDs users.  \nFind out more and book a place via the NewLink Wales
URL:https://c3sc.org.uk/event-single/steroid-and-image-enhancing-drugs-sieds-3/
LOCATION:NewLink Wales\, Meridian Court\, North Road\, Cardiff\,CF14 3BE\, NewLink Wales\, Meridian Court\, North Road\, Cardiff\,CF14 3BE
CATEGORIES:Training
END:VEVENT
END:VCALENDAR