BEGIN:VCALENDAR
VERSION:2.0
PRODID:-//C3SC - Cardiff Third Sector Council - ECPv6.15.17//NONSGML v1.0//EN
CALSCALE:GREGORIAN
METHOD:PUBLISH
X-WR-CALNAME:C3SC - Cardiff Third Sector Council
X-ORIGINAL-URL:https://c3sc.org.uk
X-WR-CALDESC:Events for C3SC - Cardiff Third Sector Council
REFRESH-INTERVAL;VALUE=DURATION:PT1H
X-Robots-Tag:noindex
X-PUBLISHED-TTL:PT1H
BEGIN:VTIMEZONE
TZID:Europe/London
BEGIN:DAYLIGHT
TZOFFSETFROM:+0000
TZOFFSETTO:+0100
TZNAME:BST
DTSTART:20170326T010000
END:DAYLIGHT
BEGIN:STANDARD
TZOFFSETFROM:+0100
TZOFFSETTO:+0000
TZNAME:GMT
DTSTART:20171029T010000
END:STANDARD
BEGIN:DAYLIGHT
TZOFFSETFROM:+0000
TZOFFSETTO:+0100
TZNAME:BST
DTSTART:20180325T010000
END:DAYLIGHT
BEGIN:STANDARD
TZOFFSETFROM:+0100
TZOFFSETTO:+0000
TZNAME:GMT
DTSTART:20181028T010000
END:STANDARD
BEGIN:DAYLIGHT
TZOFFSETFROM:+0000
TZOFFSETTO:+0100
TZNAME:BST
DTSTART:20190331T010000
END:DAYLIGHT
BEGIN:STANDARD
TZOFFSETFROM:+0100
TZOFFSETTO:+0000
TZNAME:GMT
DTSTART:20191027T010000
END:STANDARD
END:VTIMEZONE
BEGIN:VEVENT
DTSTART;TZID=Europe/London:20181107T173000
DTEND;TZID=Europe/London:20181107T190000
DTSTAMP:20260423T034833
CREATED:20181023T135902Z
LAST-MODIFIED:20181023T135902Z
UID:49863-1541611800-1541617200@c3sc.org.uk
SUMMARY:Specialist CAMHS Feedback Event #1
DESCRIPTION:We would like you to attend a feedback workshop to share your views on the Specialist CAMHS service. \nOur aim is to gather feedback from parents and carers of children and young people who have accessed the service on their experiences with the purpose of understanding how we can better deliver our service to meet the needs of those who need it. \nDuring the workshop we will share with you the improvements that have already been made within the service as well as the future developments we have planned. \nWe hope you will be able to join us to hare your experiences and suggestions for how the service can be improved. If you are able to attend\, it would be helpful if you could let us know by emailing Graham.Cone@nhs.uk to confirm. If you are not able to attend any of these dates\, we plan on running further workshops in the future and will keep you posted on these dates.
URL:https://c3sc.org.uk/event-single/specialist-camhs-feedback-event-1/
LOCATION:Meeting Room\, 1st Floor Child Health\, St. David’s Hospital\, Meeting Room\, 1st Floor Child Health\, St. David's Hospital
CATEGORIES:Event
END:VEVENT
END:VCALENDAR