BEGIN:VCALENDAR
VERSION:2.0
PRODID:-//C3SC - Cardiff Third Sector Council - ECPv6.15.17//NONSGML v1.0//EN
CALSCALE:GREGORIAN
METHOD:PUBLISH
X-WR-CALNAME:C3SC - Cardiff Third Sector Council
X-ORIGINAL-URL:https://c3sc.org.uk
X-WR-CALDESC:Events for C3SC - Cardiff Third Sector Council
REFRESH-INTERVAL;VALUE=DURATION:PT1H
X-Robots-Tag:noindex
X-PUBLISHED-TTL:PT1H
BEGIN:VTIMEZONE
TZID:Europe/London
BEGIN:DAYLIGHT
TZOFFSETFROM:+0000
TZOFFSETTO:+0100
TZNAME:BST
DTSTART:20110327T010000
END:DAYLIGHT
BEGIN:STANDARD
TZOFFSETFROM:+0100
TZOFFSETTO:+0000
TZNAME:GMT
DTSTART:20111030T010000
END:STANDARD
BEGIN:DAYLIGHT
TZOFFSETFROM:+0000
TZOFFSETTO:+0100
TZNAME:BST
DTSTART:20120325T010000
END:DAYLIGHT
BEGIN:STANDARD
TZOFFSETFROM:+0100
TZOFFSETTO:+0000
TZNAME:GMT
DTSTART:20121028T010000
END:STANDARD
BEGIN:DAYLIGHT
TZOFFSETFROM:+0000
TZOFFSETTO:+0100
TZNAME:BST
DTSTART:20130331T010000
END:DAYLIGHT
BEGIN:STANDARD
TZOFFSETFROM:+0100
TZOFFSETTO:+0000
TZNAME:GMT
DTSTART:20131027T010000
END:STANDARD
END:VTIMEZONE
BEGIN:VEVENT
DTSTART;TZID=Europe/London:20120502T100000
DTEND;TZID=Europe/London:20120502T130000
DTSTAMP:20260423T105628
CREATED:20120502T090000Z
LAST-MODIFIED:20120502T090000Z
UID:44434-1335952800-1335963600@c3sc.org.uk
SUMMARY:South East Wales Participation Network
DESCRIPTION:The free practitioner network is a lively\, participatory workshop which provide an opportunity for peers to engage\, share and support each other. The May event will feature sessions on the Wales Audit Office’s All Wales Study of Public Engagement in Local Government. There will also be opportunities for you to network and hear about each other’s projects\, plus an icebreaker and an evaluation exercise.The network is suitable for anyone working in the field of participation and citizen engagement. Attendees come from a range of different organisations in the public and third sector that focus on a variety of issues. The event is suitable for anyone from any level within an organisation that has an interest in practical participatory work\, including consultation officers\, trustees\, volunteers\, development workers and managers.The network provides you with an invaluable opportunity to: – Meet other practitioners in your area  – Share good practice  – Share ideas  – Problem solve  – Develop participatory skills  – Acquire new skills
URL:https://c3sc.org.uk/event-single/south-east-wales-participation-network-2/
LOCATION:Wales Council for Deaf People\, Pontypridd\, Wales Council for Deaf People\, Pontypridd
CATEGORIES:Meeting
END:VEVENT
END:VCALENDAR