BEGIN:VCALENDAR
VERSION:2.0
PRODID:-//C3SC - Cardiff Third Sector Council - ECPv6.15.17//NONSGML v1.0//EN
CALSCALE:GREGORIAN
METHOD:PUBLISH
X-WR-CALNAME:C3SC - Cardiff Third Sector Council
X-ORIGINAL-URL:https://c3sc.org.uk
X-WR-CALDESC:Events for C3SC - Cardiff Third Sector Council
REFRESH-INTERVAL;VALUE=DURATION:PT1H
X-Robots-Tag:noindex
X-PUBLISHED-TTL:PT1H
BEGIN:VTIMEZONE
TZID:Europe/London
BEGIN:DAYLIGHT
TZOFFSETFROM:+0000
TZOFFSETTO:+0100
TZNAME:BST
DTSTART:20110327T010000
END:DAYLIGHT
BEGIN:STANDARD
TZOFFSETFROM:+0100
TZOFFSETTO:+0000
TZNAME:GMT
DTSTART:20111030T010000
END:STANDARD
BEGIN:DAYLIGHT
TZOFFSETFROM:+0000
TZOFFSETTO:+0100
TZNAME:BST
DTSTART:20120325T010000
END:DAYLIGHT
BEGIN:STANDARD
TZOFFSETFROM:+0100
TZOFFSETTO:+0000
TZNAME:GMT
DTSTART:20121028T010000
END:STANDARD
BEGIN:DAYLIGHT
TZOFFSETFROM:+0000
TZOFFSETTO:+0100
TZNAME:BST
DTSTART:20130331T010000
END:DAYLIGHT
BEGIN:STANDARD
TZOFFSETFROM:+0100
TZOFFSETTO:+0000
TZNAME:GMT
DTSTART:20131027T010000
END:STANDARD
END:VTIMEZONE
BEGIN:VEVENT
DTSTART;VALUE=DATE:20120628
DTEND;VALUE=DATE:20120629
DTSTAMP:20260425T181918
CREATED:20120627T230000Z
LAST-MODIFIED:20120627T230000Z
UID:44646-1340841600-1340927999@c3sc.org.uk
SUMMARY:Shelter Cymru Conference - People and Homes 2012: Weathering the Storm
DESCRIPTION:Sponsored by Gwalia\, Shelter Cymru’s conferences always host informative and pertinent speakers\, and we’re not afraid to tackle significant issues\, making the conference challenging and thought provoking.      The Conference programme is available here (PDF).Find out more on the Shelter Cymru website.
URL:https://c3sc.org.uk/event-single/shelter-cymru-conference-people-and-homes-2012-weathering-the-storm/
LOCATION:Marriott Hotel\, Swansea\, Marriott Hotel\, Swansea
CATEGORIES:Conference
END:VEVENT
END:VCALENDAR