BEGIN:VCALENDAR
VERSION:2.0
PRODID:-//C3SC - Cardiff Third Sector Council - ECPv6.15.17//NONSGML v1.0//EN
CALSCALE:GREGORIAN
METHOD:PUBLISH
X-WR-CALNAME:C3SC - Cardiff Third Sector Council
X-ORIGINAL-URL:https://c3sc.org.uk
X-WR-CALDESC:Events for C3SC - Cardiff Third Sector Council
REFRESH-INTERVAL;VALUE=DURATION:PT1H
X-Robots-Tag:noindex
X-PUBLISHED-TTL:PT1H
BEGIN:VTIMEZONE
TZID:Europe/London
BEGIN:DAYLIGHT
TZOFFSETFROM:+0000
TZOFFSETTO:+0100
TZNAME:BST
DTSTART:20180325T010000
END:DAYLIGHT
BEGIN:STANDARD
TZOFFSETFROM:+0100
TZOFFSETTO:+0000
TZNAME:GMT
DTSTART:20181028T010000
END:STANDARD
BEGIN:DAYLIGHT
TZOFFSETFROM:+0000
TZOFFSETTO:+0100
TZNAME:BST
DTSTART:20190331T010000
END:DAYLIGHT
BEGIN:STANDARD
TZOFFSETFROM:+0100
TZOFFSETTO:+0000
TZNAME:GMT
DTSTART:20191027T010000
END:STANDARD
BEGIN:DAYLIGHT
TZOFFSETFROM:+0000
TZOFFSETTO:+0100
TZNAME:BST
DTSTART:20200329T010000
END:DAYLIGHT
BEGIN:STANDARD
TZOFFSETFROM:+0100
TZOFFSETTO:+0000
TZNAME:GMT
DTSTART:20201025T010000
END:STANDARD
END:VTIMEZONE
BEGIN:VEVENT
DTSTART;TZID=Europe/London:20191021T110000
DTEND;TZID=Europe/London:20191021T133000
DTSTAMP:20260426T045117
CREATED:20190930T092218Z
LAST-MODIFIED:20190930T092218Z
UID:50288-1571655600-1571664600@c3sc.org.uk
SUMMARY:Share Cardiif at Techniquest
DESCRIPTION:Take part in Share Cardiff’s community event\, Butetown Community: The Connections Between US will be on Monday 21 October\, from 11am (10am setup) to 1.30pm\, at Techniquest\, Stuart St\, Cardiff\, CF10 5BW \nRegister your interest: https://www.eventbrite.co.uk/e/community-the-connections-between-us-tickets-69985349063 \n   
URL:https://c3sc.org.uk/event-single/share-cardiif-at-techniquest/
CATEGORIES:Event
ATTACH;FMTTYPE=image/jpeg:https://c3sc.org.uk/wp-content/uploads/techniquest1.JPG
END:VEVENT
END:VCALENDAR