BEGIN:VCALENDAR
VERSION:2.0
PRODID:-//C3SC - Cardiff Third Sector Council - ECPv6.15.17//NONSGML v1.0//EN
CALSCALE:GREGORIAN
METHOD:PUBLISH
X-WR-CALNAME:C3SC - Cardiff Third Sector Council
X-ORIGINAL-URL:https://c3sc.org.uk
X-WR-CALDESC:Events for C3SC - Cardiff Third Sector Council
REFRESH-INTERVAL;VALUE=DURATION:PT1H
X-Robots-Tag:noindex
X-PUBLISHED-TTL:PT1H
BEGIN:VTIMEZONE
TZID:Europe/London
BEGIN:DAYLIGHT
TZOFFSETFROM:+0000
TZOFFSETTO:+0100
TZNAME:BST
DTSTART:20190331T010000
END:DAYLIGHT
BEGIN:STANDARD
TZOFFSETFROM:+0100
TZOFFSETTO:+0000
TZNAME:GMT
DTSTART:20191027T010000
END:STANDARD
BEGIN:DAYLIGHT
TZOFFSETFROM:+0000
TZOFFSETTO:+0100
TZNAME:BST
DTSTART:20200329T010000
END:DAYLIGHT
BEGIN:STANDARD
TZOFFSETFROM:+0100
TZOFFSETTO:+0000
TZNAME:GMT
DTSTART:20201025T010000
END:STANDARD
BEGIN:DAYLIGHT
TZOFFSETFROM:+0000
TZOFFSETTO:+0100
TZNAME:BST
DTSTART:20210328T010000
END:DAYLIGHT
BEGIN:STANDARD
TZOFFSETFROM:+0100
TZOFFSETTO:+0000
TZNAME:GMT
DTSTART:20211031T010000
END:STANDARD
END:VTIMEZONE
BEGIN:VEVENT
DTSTART;TZID=Europe/London:20200121T093000
DTEND;TZID=Europe/London:20200121T123000
DTSTAMP:20260423T220558
CREATED:20200106T155255Z
LAST-MODIFIED:20200106T155255Z
UID:50358-1579599000-1579609800@c3sc.org.uk
SUMMARY:Safeguarding: Organisational Implications –FREE (WCVA)
DESCRIPTION:By the end of the session\, you will be able to:\n\nUnderstand the context of safeguarding in Wales\, legislation and guidance\nExplore how to implement the policies and procedures required\nDiscuss confidentiality\, reporting and referrals\n\nBook online – Alternatively email training@c3sc.org.uk or call us on (029) 2048 5722.
URL:https://c3sc.org.uk/event-single/safeguarding-organisational-implications-free-wcva/
LOCATION:C3SC\, Baltic House\, Cardiff Bay\, CF10 5FH\, C3SC\, Baltic House\, Cardiff Bay\, CF10 5FH
CATEGORIES:Training
END:VEVENT
END:VCALENDAR