BEGIN:VCALENDAR
VERSION:2.0
PRODID:-//C3SC - Cardiff Third Sector Council - ECPv6.15.17//NONSGML v1.0//EN
CALSCALE:GREGORIAN
METHOD:PUBLISH
X-WR-CALNAME:C3SC - Cardiff Third Sector Council
X-ORIGINAL-URL:https://c3sc.org.uk
X-WR-CALDESC:Events for C3SC - Cardiff Third Sector Council
REFRESH-INTERVAL;VALUE=DURATION:PT1H
X-Robots-Tag:noindex
X-PUBLISHED-TTL:PT1H
BEGIN:VTIMEZONE
TZID:Europe/London
BEGIN:DAYLIGHT
TZOFFSETFROM:+0000
TZOFFSETTO:+0100
TZNAME:BST
DTSTART:20180325T010000
END:DAYLIGHT
BEGIN:STANDARD
TZOFFSETFROM:+0100
TZOFFSETTO:+0000
TZNAME:GMT
DTSTART:20181028T010000
END:STANDARD
BEGIN:DAYLIGHT
TZOFFSETFROM:+0000
TZOFFSETTO:+0100
TZNAME:BST
DTSTART:20190331T010000
END:DAYLIGHT
BEGIN:STANDARD
TZOFFSETFROM:+0100
TZOFFSETTO:+0000
TZNAME:GMT
DTSTART:20191027T010000
END:STANDARD
BEGIN:DAYLIGHT
TZOFFSETFROM:+0000
TZOFFSETTO:+0100
TZNAME:BST
DTSTART:20200329T010000
END:DAYLIGHT
BEGIN:STANDARD
TZOFFSETFROM:+0100
TZOFFSETTO:+0000
TZNAME:GMT
DTSTART:20201025T010000
END:STANDARD
END:VTIMEZONE
BEGIN:VEVENT
DTSTART;TZID=Europe/London:20191115T090000
DTEND;TZID=Europe/London:20191115T130000
DTSTAMP:20260424T021731
CREATED:20191016T133315Z
LAST-MODIFIED:20191016T133315Z
UID:50320-1573808400-1573822800@c3sc.org.uk
SUMMARY:Professionals/Practitioners Conference
DESCRIPTION:Professionals/Practitioners Conference – Friday 15th November\, 9am-1pm\, MEMO Hall\, Barry\n\nWe have a number of excellent speakers covering a range of topics in relation to domestic abuse: \n–       Domestic Abuse in Older People – Helena Herklots\, Older People’s Commissioner . \n–       Tracking Risk Through Homicide Timeline (escalating risk of homicide through cases of Coercive Control) – Jane Monkton-Smith\, Senior Lecturer in Criminology. \n–       Forced Marriage/Honour Based Violence – Sam Ali\, BAWSO \n–       Domestic Abuse Survivor Journey – from Victim to Victor – Rachel Williams\, DA Survivor & Campaigner. \n–       Local Survivor Stories – SEEDS Project/Women’s Aid. \n–       Bright Sky – R Griffiths\, Bright Sky Promotion Manager \n–       Change that Lasts Model – M Merkova\, Welsh Women’s Aid \nCan you please arrange to cascade the information to staff within your own agencies.  To book a place for either event please contact the Business Unit on 02920 871891 or email cardiffandvalersb@cardiff.gov.uk.
URL:https://c3sc.org.uk/event-single/professionals-practitioners-conference-2/
LOCATION:MEMO Hall\, Barry\, MEMO Hall\, Barry
CATEGORIES:Conference
END:VEVENT
END:VCALENDAR