BEGIN:VCALENDAR
VERSION:2.0
PRODID:-//C3SC - Cardiff Third Sector Council - ECPv6.15.17//NONSGML v1.0//EN
CALSCALE:GREGORIAN
METHOD:PUBLISH
X-WR-CALNAME:C3SC - Cardiff Third Sector Council
X-ORIGINAL-URL:https://c3sc.org.uk
X-WR-CALDESC:Events for C3SC - Cardiff Third Sector Council
REFRESH-INTERVAL;VALUE=DURATION:PT1H
X-Robots-Tag:noindex
X-PUBLISHED-TTL:PT1H
BEGIN:VTIMEZONE
TZID:Europe/London
BEGIN:DAYLIGHT
TZOFFSETFROM:+0000
TZOFFSETTO:+0100
TZNAME:BST
DTSTART:20130331T010000
END:DAYLIGHT
BEGIN:STANDARD
TZOFFSETFROM:+0100
TZOFFSETTO:+0000
TZNAME:GMT
DTSTART:20131027T010000
END:STANDARD
BEGIN:DAYLIGHT
TZOFFSETFROM:+0000
TZOFFSETTO:+0100
TZNAME:BST
DTSTART:20140330T010000
END:DAYLIGHT
BEGIN:STANDARD
TZOFFSETFROM:+0100
TZOFFSETTO:+0000
TZNAME:GMT
DTSTART:20141026T010000
END:STANDARD
BEGIN:DAYLIGHT
TZOFFSETFROM:+0000
TZOFFSETTO:+0100
TZNAME:BST
DTSTART:20150329T010000
END:DAYLIGHT
BEGIN:STANDARD
TZOFFSETFROM:+0100
TZOFFSETTO:+0000
TZNAME:GMT
DTSTART:20151025T010000
END:STANDARD
END:VTIMEZONE
BEGIN:VEVENT
DTSTART;VALUE=DATE:20140306
DTEND;VALUE=DATE:20140307
DTSTAMP:20260424T223843
CREATED:20140306T000000Z
LAST-MODIFIED:20140306T000000Z
UID:46436-1394064000-1394150399@c3sc.org.uk
SUMMARY:Problem solving for debt cases
DESCRIPTION:Course outline \nThis course will equip advisers with experience of money advice with the knowledge and skills to solve a range of problems presented by clients with multiple debts. \n  \nLearning objectives \nBy the end of this course you will be able to: \n·        assess a client’s financial circumstances and determine the best way in which to present the information \n·        identify the options available for dealing with a client’s priority and non-priority debts \n·        develop an analytical and practical approach to dealing with clients with multiple debts \n  \nLevel: Intermediate \nTutor: Marina Gallagher \n  \nBook by 6th December 2013 for a 10% discount. Visit www.citizensadvice.org.uk/advisertraining 
URL:https://c3sc.org.uk/event-single/problem-solving-for-debt-cases/
LOCATION:Cardiff\, Cardiff
CATEGORIES:Training
END:VEVENT
END:VCALENDAR