BEGIN:VCALENDAR
VERSION:2.0
PRODID:-//C3SC - Cardiff Third Sector Council - ECPv6.15.17//NONSGML v1.0//EN
CALSCALE:GREGORIAN
METHOD:PUBLISH
X-WR-CALNAME:C3SC - Cardiff Third Sector Council
X-ORIGINAL-URL:https://c3sc.org.uk
X-WR-CALDESC:Events for C3SC - Cardiff Third Sector Council
REFRESH-INTERVAL;VALUE=DURATION:PT1H
X-Robots-Tag:noindex
X-PUBLISHED-TTL:PT1H
BEGIN:VTIMEZONE
TZID:Europe/London
BEGIN:DAYLIGHT
TZOFFSETFROM:+0000
TZOFFSETTO:+0100
TZNAME:BST
DTSTART:20130331T010000
END:DAYLIGHT
BEGIN:STANDARD
TZOFFSETFROM:+0100
TZOFFSETTO:+0000
TZNAME:GMT
DTSTART:20131027T010000
END:STANDARD
BEGIN:DAYLIGHT
TZOFFSETFROM:+0000
TZOFFSETTO:+0100
TZNAME:BST
DTSTART:20140330T010000
END:DAYLIGHT
BEGIN:STANDARD
TZOFFSETFROM:+0100
TZOFFSETTO:+0000
TZNAME:GMT
DTSTART:20141026T010000
END:STANDARD
BEGIN:DAYLIGHT
TZOFFSETFROM:+0000
TZOFFSETTO:+0100
TZNAME:BST
DTSTART:20150329T010000
END:DAYLIGHT
BEGIN:STANDARD
TZOFFSETFROM:+0100
TZOFFSETTO:+0000
TZNAME:GMT
DTSTART:20151025T010000
END:STANDARD
END:VTIMEZONE
BEGIN:VEVENT
DTSTART;VALUE=DATE:20140507
DTEND;VALUE=DATE:20140508
DTSTAMP:20260424T080410
CREATED:20140506T230000Z
LAST-MODIFIED:20140506T230000Z
UID:46580-1399420800-1399507199@c3sc.org.uk
SUMMARY:POVA E-Learning Workshops
DESCRIPTION:Cardiff Council has arranged POVA E-learning workshops for anyone who would be in a position to mentor staff (most likely – managers/supervisors/training co-ordinators) through the e-learning package once it’s rolled out within your home or agency. \nSo\, if you’d like your staff to be able to access the POVA e-learning package now or in the future\, please nominate someone to come along to one of these introductory sessions.  \nThe workshop sessions last about an hour and a half. \nThere are two sessions running on this day: 9.30am -11.00am and 11.30am – 1.00pm. \nIf you can’t make this date\, there are two sessions running at the same time as today’s date on 9 July 2014. (Attendance is only necessary on ONE of the four sessions for each person.) \nFor a booking form or to find out more\, please email David Brown at DavBrown@cardiff.gov.uk You will need to complete a booking nomination form for any bookings you’d like to make.
URL:https://c3sc.org.uk/event-single/pova-e-learning-workshops/
CATEGORIES:Training
END:VEVENT
END:VCALENDAR