BEGIN:VCALENDAR
VERSION:2.0
PRODID:-//C3SC - Cardiff Third Sector Council - ECPv6.15.17//NONSGML v1.0//EN
CALSCALE:GREGORIAN
METHOD:PUBLISH
X-WR-CALNAME:C3SC - Cardiff Third Sector Council
X-ORIGINAL-URL:https://c3sc.org.uk
X-WR-CALDESC:Events for C3SC - Cardiff Third Sector Council
REFRESH-INTERVAL;VALUE=DURATION:PT1H
X-Robots-Tag:noindex
X-PUBLISHED-TTL:PT1H
BEGIN:VTIMEZONE
TZID:Europe/London
BEGIN:DAYLIGHT
TZOFFSETFROM:+0000
TZOFFSETTO:+0100
TZNAME:BST
DTSTART:20110327T010000
END:DAYLIGHT
BEGIN:STANDARD
TZOFFSETFROM:+0100
TZOFFSETTO:+0000
TZNAME:GMT
DTSTART:20111030T010000
END:STANDARD
BEGIN:DAYLIGHT
TZOFFSETFROM:+0000
TZOFFSETTO:+0100
TZNAME:BST
DTSTART:20120325T010000
END:DAYLIGHT
BEGIN:STANDARD
TZOFFSETFROM:+0100
TZOFFSETTO:+0000
TZNAME:GMT
DTSTART:20121028T010000
END:STANDARD
BEGIN:DAYLIGHT
TZOFFSETFROM:+0000
TZOFFSETTO:+0100
TZNAME:BST
DTSTART:20130331T010000
END:DAYLIGHT
BEGIN:STANDARD
TZOFFSETFROM:+0100
TZOFFSETTO:+0000
TZNAME:GMT
DTSTART:20131027T010000
END:STANDARD
END:VTIMEZONE
BEGIN:VEVENT
DTSTART;VALUE=DATE:20120705
DTEND;VALUE=DATE:20120706
DTSTAMP:20260423T081057
CREATED:20120704T230000Z
LAST-MODIFIED:20120704T230000Z
UID:44691-1341446400-1341532799@c3sc.org.uk
SUMMARY:Positive Approaches to Creating Positive Behaviour
DESCRIPTION:A one-day course facilitated by Windfall Training \nThe aim of this Children in Wales training is to help those working with children and young people gain a deeper understanding of the functional nature of behaviours that we consider challenging\, and identify positive and progressive ways of responding. The course will offer a practice-based forum to consider ways of working with children whose behaviour creates a barrier in social\, learning and play relationships. It also covers behaviour in different ages and ranges of ability\, underpinning the communicative nature of behaviour. \nThis course will include:  \n – The functional nature of behaviour and working with the ABC framework of assessment  – A variety of evidence-based strategies to respond to difficult and aggressive behaviours  – Crisis intervention guidance  – How to cope with our own responses and personal stress \n  \nCOST:  \nMember £115  \nNon-members £135 \nThis course is also offered as in-house training\, please contact claire.sharp@childreninwales.org.uk for more information.  \n 
URL:https://c3sc.org.uk/event-single/positive-approaches-to-creating-positive-behaviour/
LOCATION:Cardiff\, Cardiff
CATEGORIES:Training
END:VEVENT
END:VCALENDAR