BEGIN:VCALENDAR
VERSION:2.0
PRODID:-//C3SC - Cardiff Third Sector Council - ECPv6.15.17//NONSGML v1.0//EN
CALSCALE:GREGORIAN
METHOD:PUBLISH
X-WR-CALNAME:C3SC - Cardiff Third Sector Council
X-ORIGINAL-URL:https://c3sc.org.uk
X-WR-CALDESC:Events for C3SC - Cardiff Third Sector Council
REFRESH-INTERVAL;VALUE=DURATION:PT1H
X-Robots-Tag:noindex
X-PUBLISHED-TTL:PT1H
BEGIN:VTIMEZONE
TZID:Europe/London
BEGIN:DAYLIGHT
TZOFFSETFROM:+0000
TZOFFSETTO:+0100
TZNAME:BST
DTSTART:20110327T010000
END:DAYLIGHT
BEGIN:STANDARD
TZOFFSETFROM:+0100
TZOFFSETTO:+0000
TZNAME:GMT
DTSTART:20111030T010000
END:STANDARD
BEGIN:DAYLIGHT
TZOFFSETFROM:+0000
TZOFFSETTO:+0100
TZNAME:BST
DTSTART:20120325T010000
END:DAYLIGHT
BEGIN:STANDARD
TZOFFSETFROM:+0100
TZOFFSETTO:+0000
TZNAME:GMT
DTSTART:20121028T010000
END:STANDARD
BEGIN:DAYLIGHT
TZOFFSETFROM:+0000
TZOFFSETTO:+0100
TZNAME:BST
DTSTART:20130331T010000
END:DAYLIGHT
BEGIN:STANDARD
TZOFFSETFROM:+0100
TZOFFSETTO:+0000
TZNAME:GMT
DTSTART:20131027T010000
END:STANDARD
END:VTIMEZONE
BEGIN:VEVENT
DTSTART;TZID=Europe/London:20120427T093000
DTEND;TZID=Europe/London:20120427T150000
DTSTAMP:20260422T133500
CREATED:20120427T083000Z
LAST-MODIFIED:20120427T083000Z
UID:44420-1335519000-1335538800@c3sc.org.uk
SUMMARY:Planning Your Exhibition
DESCRIPTION:Thanks to a £20\,000 training grant awarded by the Arts Council of Wales\, the Black Voluntary Sector Network Wales (BVSNW) is pleased to announce a new programme of professional development opportunities for Black and Minority Ethnic artists and creatives in Wales.  \n‘Planning Your Exhibition’ training led by Melaneia Warwick \nCourse Outline: \nSo you have made or are planning to make a body of artworks. Perhaps you are struggling to get the work ‘out there’ so that it can be seen and even bought. This is not an uncommon problem for artists and makers and often work can end up sitting on our studio floors. The ways in which we can exhibit our artworks is growing and this offers a positive range of solutions. The focus of this one-day course will be on unravelling the mystery of exhibiting your work by looking at the evergrowing possibilities for doing so. You will develop insights and take away some tools for ways forward. Come prepared to join in on this fun\, active and focussed workshop. If you have any images of your artworks\, bring those along too. \nVisit www.neatraining.co.uk to find out more.
URL:https://c3sc.org.uk/event-single/planning-your-exhibition/
LOCATION:St David’s Hall\, Cardiff CF10 1AH\, St David’s Hall\, Cardiff CF10 1AH
CATEGORIES:Training
END:VEVENT
END:VCALENDAR