BEGIN:VCALENDAR
VERSION:2.0
PRODID:-//C3SC - Cardiff Third Sector Council - ECPv6.15.17//NONSGML v1.0//EN
CALSCALE:GREGORIAN
METHOD:PUBLISH
X-WR-CALNAME:C3SC - Cardiff Third Sector Council
X-ORIGINAL-URL:https://c3sc.org.uk
X-WR-CALDESC:Events for C3SC - Cardiff Third Sector Council
REFRESH-INTERVAL;VALUE=DURATION:PT1H
X-Robots-Tag:noindex
X-PUBLISHED-TTL:PT1H
BEGIN:VTIMEZONE
TZID:Europe/London
BEGIN:DAYLIGHT
TZOFFSETFROM:+0000
TZOFFSETTO:+0100
TZNAME:BST
DTSTART:20180325T010000
END:DAYLIGHT
BEGIN:STANDARD
TZOFFSETFROM:+0100
TZOFFSETTO:+0000
TZNAME:GMT
DTSTART:20181028T010000
END:STANDARD
BEGIN:DAYLIGHT
TZOFFSETFROM:+0000
TZOFFSETTO:+0100
TZNAME:BST
DTSTART:20190331T010000
END:DAYLIGHT
BEGIN:STANDARD
TZOFFSETFROM:+0100
TZOFFSETTO:+0000
TZNAME:GMT
DTSTART:20191027T010000
END:STANDARD
BEGIN:DAYLIGHT
TZOFFSETFROM:+0000
TZOFFSETTO:+0100
TZNAME:BST
DTSTART:20200329T010000
END:DAYLIGHT
BEGIN:STANDARD
TZOFFSETFROM:+0100
TZOFFSETTO:+0000
TZNAME:GMT
DTSTART:20201025T010000
END:STANDARD
END:VTIMEZONE
BEGIN:VEVENT
DTSTART;TZID=Europe/London:20190704T090000
DTEND;TZID=Europe/London:20190704T160000
DTSTAMP:20260423T051722
CREATED:20190513T094348Z
LAST-MODIFIED:20190513T094348Z
UID:50109-1562230800-1562256000@c3sc.org.uk
SUMMARY:People and Homes Conference
DESCRIPTION:(Via Shelter Cymru) \nPeople and Homes Conference \nThursday 4th July – The Village Hotel Swansea \nIn this year’s conference we’ll be wrestling with the difficult questions: What more can we do to end homelessness in Wales? What powers should we be seeking from Westminster? How high can we aim? \nInitial speakers confirmed for the event include: \n\nEvrah Rose – A social injustice spoken word performer from North Wales \nDr Anthony Ince\, Cardiff University – How the far right in the UK and Europe have used housing issues to further their cause \nJulie James AM – Minister for Housing and Regeneration focuses on her priorities for housing and homelessness prevention \nDr Cliona Ni Cheallaigh\, hospital consultant\, St James’s  Dublin and pioneer in Inclusion Healthcare \nFiona King\, Shelter Scotland sharing lessons from Scotland’s reforms of the private rented sector\n\nWe are also providing 10% off attendees order by using the code for a limited time: Access30
URL:https://c3sc.org.uk/event-single/people-and-homes-conference/
CATEGORIES:Conference
END:VEVENT
END:VCALENDAR