BEGIN:VCALENDAR
VERSION:2.0
PRODID:-//C3SC - Cardiff Third Sector Council - ECPv6.15.17//NONSGML v1.0//EN
CALSCALE:GREGORIAN
METHOD:PUBLISH
X-WR-CALNAME:C3SC - Cardiff Third Sector Council
X-ORIGINAL-URL:https://c3sc.org.uk
X-WR-CALDESC:Events for C3SC - Cardiff Third Sector Council
REFRESH-INTERVAL;VALUE=DURATION:PT1H
X-Robots-Tag:noindex
X-PUBLISHED-TTL:PT1H
BEGIN:VTIMEZONE
TZID:Europe/London
BEGIN:DAYLIGHT
TZOFFSETFROM:+0000
TZOFFSETTO:+0100
TZNAME:BST
DTSTART:20110327T010000
END:DAYLIGHT
BEGIN:STANDARD
TZOFFSETFROM:+0100
TZOFFSETTO:+0000
TZNAME:GMT
DTSTART:20111030T010000
END:STANDARD
BEGIN:DAYLIGHT
TZOFFSETFROM:+0000
TZOFFSETTO:+0100
TZNAME:BST
DTSTART:20120325T010000
END:DAYLIGHT
BEGIN:STANDARD
TZOFFSETFROM:+0100
TZOFFSETTO:+0000
TZNAME:GMT
DTSTART:20121028T010000
END:STANDARD
BEGIN:DAYLIGHT
TZOFFSETFROM:+0000
TZOFFSETTO:+0100
TZNAME:BST
DTSTART:20130331T010000
END:DAYLIGHT
BEGIN:STANDARD
TZOFFSETFROM:+0100
TZOFFSETTO:+0000
TZNAME:GMT
DTSTART:20131027T010000
END:STANDARD
END:VTIMEZONE
BEGIN:VEVENT
DTSTART;TZID=Europe/London:20120427T073000
DTEND;TZID=Europe/London:20120427T090000
DTSTAMP:20260422T134146
CREATED:20120427T063000Z
LAST-MODIFIED:20120427T063000Z
UID:44417-1335511800-1335517200@c3sc.org.uk
SUMMARY:Pedal Power breakfast: From Adversity to Achievement
DESCRIPTION:Join Pedal Power for breakfast at Cardiff City Hall with Para-cyclist Mark Colbourne\, winner of Gold and Silver medals at the recent 2012 Para-cycling World Championships in Los Angeles. \nMark is Patron of Pedal Power\, the Cardiff-based charity which provides cycling opportunities for disabled children\, adults and their families.  \nFor only £30 a head (10% discount available for business tables of 10 people) you’ll be able to enjoy a hearty and healthy breakfast before you start your working day. \nListen to Mark tell his truly inspiring story of how he overcame the adversity of his paralysis following a horrific paragliding accident to become a World Para-cycling Champion and prospective Paralympian at the 2012 London Paralympics. \nFor more information about booking your place or a table for your company please contact Sybil Williams\, Director of Pedal Power\, on 029 2039 0713 or email director@cardiffpedalpower.org \nTo find out more about Pedal Power visit www.cardiffpedalpower.org
URL:https://c3sc.org.uk/event-single/pedal-power-breakfast-from-adversity-to-achievement/
LOCATION:City Hall\, Cardiff\, City Hall\, Cardiff
CATEGORIES:Event
END:VEVENT
END:VCALENDAR