BEGIN:VCALENDAR
VERSION:2.0
PRODID:-//C3SC - Cardiff Third Sector Council - ECPv6.15.17//NONSGML v1.0//EN
CALSCALE:GREGORIAN
METHOD:PUBLISH
X-WR-CALNAME:C3SC - Cardiff Third Sector Council
X-ORIGINAL-URL:https://c3sc.org.uk
X-WR-CALDESC:Events for C3SC - Cardiff Third Sector Council
REFRESH-INTERVAL;VALUE=DURATION:PT1H
X-Robots-Tag:noindex
X-PUBLISHED-TTL:PT1H
BEGIN:VTIMEZONE
TZID:Europe/London
BEGIN:DAYLIGHT
TZOFFSETFROM:+0000
TZOFFSETTO:+0100
TZNAME:BST
DTSTART:20170326T010000
END:DAYLIGHT
BEGIN:STANDARD
TZOFFSETFROM:+0100
TZOFFSETTO:+0000
TZNAME:GMT
DTSTART:20171029T010000
END:STANDARD
BEGIN:DAYLIGHT
TZOFFSETFROM:+0000
TZOFFSETTO:+0100
TZNAME:BST
DTSTART:20180325T010000
END:DAYLIGHT
BEGIN:STANDARD
TZOFFSETFROM:+0100
TZOFFSETTO:+0000
TZNAME:GMT
DTSTART:20181028T010000
END:STANDARD
BEGIN:DAYLIGHT
TZOFFSETFROM:+0000
TZOFFSETTO:+0100
TZNAME:BST
DTSTART:20190331T010000
END:DAYLIGHT
BEGIN:STANDARD
TZOFFSETFROM:+0100
TZOFFSETTO:+0000
TZNAME:GMT
DTSTART:20191027T010000
END:STANDARD
END:VTIMEZONE
BEGIN:VEVENT
DTSTART;VALUE=DATE:20180423
DTEND;VALUE=DATE:20180424
DTSTAMP:20260424T214826
CREATED:20180321T094338Z
LAST-MODIFIED:20180321T094338Z
UID:49642-1524441600-1524527999@c3sc.org.uk
SUMMARY:NewLink Wales Training: Substance Misuse Awareness
DESCRIPTION:This course aims to bring a broad understanding about substance misuse and the impact that it has on individuals. It covers the most commonly misused categories of substances\, the effects of alcohol and the risks associated with alcohol misuse. It also examines different patterns of substance misuse and different types of service provision. \nFULLY FUNDED SPACES ON ALL COURSES FOR WORKERS IN CARDIFF & THE VALE ONLY  \n FOR WORKERS OUTSIDE OF CARDIFF AND VALE\, A £90 COURSE COST APPLIES. \nBook your place online via the NewLink Wales website
URL:https://c3sc.org.uk/event-single/newlink-wales-training-substance-misuse-awareness/
CATEGORIES:Training
END:VEVENT
END:VCALENDAR