BEGIN:VCALENDAR
VERSION:2.0
PRODID:-//C3SC - Cardiff Third Sector Council - ECPv6.15.17//NONSGML v1.0//EN
CALSCALE:GREGORIAN
METHOD:PUBLISH
X-WR-CALNAME:C3SC - Cardiff Third Sector Council
X-ORIGINAL-URL:https://c3sc.org.uk
X-WR-CALDESC:Events for C3SC - Cardiff Third Sector Council
REFRESH-INTERVAL;VALUE=DURATION:PT1H
X-Robots-Tag:noindex
X-PUBLISHED-TTL:PT1H
BEGIN:VTIMEZONE
TZID:Europe/London
BEGIN:DAYLIGHT
TZOFFSETFROM:+0000
TZOFFSETTO:+0100
TZNAME:BST
DTSTART:20110327T010000
END:DAYLIGHT
BEGIN:STANDARD
TZOFFSETFROM:+0100
TZOFFSETTO:+0000
TZNAME:GMT
DTSTART:20111030T010000
END:STANDARD
BEGIN:DAYLIGHT
TZOFFSETFROM:+0000
TZOFFSETTO:+0100
TZNAME:BST
DTSTART:20120325T010000
END:DAYLIGHT
BEGIN:STANDARD
TZOFFSETFROM:+0100
TZOFFSETTO:+0000
TZNAME:GMT
DTSTART:20121028T010000
END:STANDARD
BEGIN:DAYLIGHT
TZOFFSETFROM:+0000
TZOFFSETTO:+0100
TZNAME:BST
DTSTART:20130331T010000
END:DAYLIGHT
BEGIN:STANDARD
TZOFFSETFROM:+0100
TZOFFSETTO:+0000
TZNAME:GMT
DTSTART:20131027T010000
END:STANDARD
END:VTIMEZONE
BEGIN:VEVENT
DTSTART;VALUE=DATE:20120710
DTEND;VALUE=DATE:20120711
DTSTAMP:20260422T195509
CREATED:20120709T230000Z
LAST-MODIFIED:20120709T230000Z
UID:44704-1341878400-1341964799@c3sc.org.uk
SUMMARY:New developments in safeguarding and CRB checks
DESCRIPTION:WCVA’s Criminal Records Unit is proud to offer a unique opportunity for you to gain a close understanding of changes in safeguarding and CRB checks\, due to be phased in from this September. \nThe Government plans to scale back criminal records and barring systems\, while still maintaining effective safeguarding. Meanwhile\, the Protection of Freedoms Act\, which came into law in May\, will bring about changes that will impact on all voluntary groups working with vulnerable people – not just those which require staff to take CRB checks. \nIt is vitally important for the sector to be up to date with their policies and procedures\, and be able to comply with legislation\, as these changes are taking place.  \nWCVA’s Criminal Records Unit\, with support from the Home Office\, will be explaining the changes at the seminars\, with plenty of opportunity for you to ask questions of your own. \nThere are two opportunities to attend the seminar on this day. The first session runs from 9.30am – 12pm and will be repeated from 1.00-3.30pm. \nPrice: £15 for WCVA members and £25 for non-members. \nYou can download a programme and booking form here. Attendance is limited\, so book quickly. 
URL:https://c3sc.org.uk/event-single/new-developments-in-safeguarding-and-crb-checks/
LOCATION:Future Inn\, Cardiff\, Future Inn\, Cardiff
CATEGORIES:Training
END:VEVENT
END:VCALENDAR