BEGIN:VCALENDAR
VERSION:2.0
PRODID:-//C3SC - Cardiff Third Sector Council - ECPv6.15.17//NONSGML v1.0//EN
CALSCALE:GREGORIAN
METHOD:PUBLISH
X-WR-CALNAME:C3SC - Cardiff Third Sector Council
X-ORIGINAL-URL:https://c3sc.org.uk
X-WR-CALDESC:Events for C3SC - Cardiff Third Sector Council
REFRESH-INTERVAL;VALUE=DURATION:PT1H
X-Robots-Tag:noindex
X-PUBLISHED-TTL:PT1H
BEGIN:VTIMEZONE
TZID:Europe/London
BEGIN:DAYLIGHT
TZOFFSETFROM:+0000
TZOFFSETTO:+0100
TZNAME:BST
DTSTART:20110327T010000
END:DAYLIGHT
BEGIN:STANDARD
TZOFFSETFROM:+0100
TZOFFSETTO:+0000
TZNAME:GMT
DTSTART:20111030T010000
END:STANDARD
BEGIN:DAYLIGHT
TZOFFSETFROM:+0000
TZOFFSETTO:+0100
TZNAME:BST
DTSTART:20120325T010000
END:DAYLIGHT
BEGIN:STANDARD
TZOFFSETFROM:+0100
TZOFFSETTO:+0000
TZNAME:GMT
DTSTART:20121028T010000
END:STANDARD
BEGIN:DAYLIGHT
TZOFFSETFROM:+0000
TZOFFSETTO:+0100
TZNAME:BST
DTSTART:20130331T010000
END:DAYLIGHT
BEGIN:STANDARD
TZOFFSETFROM:+0100
TZOFFSETTO:+0000
TZNAME:GMT
DTSTART:20131027T010000
END:STANDARD
END:VTIMEZONE
BEGIN:VEVENT
DTSTART;VALUE=DATE:20120509
DTEND;VALUE=DATE:20120510
DTSTAMP:20260423T063716
CREATED:20120508T230000Z
LAST-MODIFIED:20120508T230000Z
UID:44454-1336521600-1336607999@c3sc.org.uk
SUMMARY:Mental Health Today Wales
DESCRIPTION:The Mental Health Today Wales conference and exhibition is taking place in Cardiff on 9 May. The event is £30 to attend\, with free places available\, and offers a comprehensive programme of seminars alongside the exhibition of Welsh mental health organisations and projects. \nSpeakers include: \n – ·Dr Sarah Watkins\, Senior Medical Officer\, Welsh Assembly Government – ·Barbara Bowness\, Primary Care Lead\, Mental Health (Wales) Measure – ·Claire Reid\, Senior Advocate\, South Wales Mental Health Advocacy – ·Dave Smith\, expert by experience and trainer\, Hafal\, and columnist for the Western Mail  – ·Dr Ian John\, Cardiff University and President Elect\, Marce Society  – ·Jan Batty \, Development Worker\, Mind Your Heart\, Ceredigion Public Health Team  – ·Ewan Hilton\, Executive Director\, Gofal  – ·Dave Smith\, expert by experience and trainer\, Hafal\, and columnist for the Western Mail – ·Louise Robinson\, The British Association for Counselling & Psychotherapy – ·Dr Rhys Bevan Jones\, Child and Adolescent Psychiatrist\, University of Cardiff  – ·Joy Jones\, Clinical Lead Tier 3 Specialist Eating Disorders Service Aneurin Bevan Local Health Board \n  \nSeminars are CPD accredited and include: \n – ·Keynote address: The landscape for mental health services in Wales – ·Putting into practice the new Mental Health (Wales) Measure 2010 – ·Taking the whole person approach to leading life – ·Therapeutic and holistic approaches to mental health recovery – ·Working with young people to develop awareness of mental health issues and the benefits of early intervention – ·Understanding the mental health concerns and issues facing the older population – ·Training and developing the workforce – ·Forensic mental health – ·Meeting the mental health needs of people with learning disabilities – ·Dual diagnosis –  – Book online or use the email address below. \n 
URL:https://c3sc.org.uk/event-single/mental-health-today-wales/
LOCATION:All Nations Centre\, Cardiff\, All Nations Centre\, Cardiff
CATEGORIES:Conference
END:VEVENT
END:VCALENDAR