BEGIN:VCALENDAR
VERSION:2.0
PRODID:-//C3SC - Cardiff Third Sector Council - ECPv6.15.17//NONSGML v1.0//EN
CALSCALE:GREGORIAN
METHOD:PUBLISH
X-WR-CALNAME:C3SC - Cardiff Third Sector Council
X-ORIGINAL-URL:https://c3sc.org.uk
X-WR-CALDESC:Events for C3SC - Cardiff Third Sector Council
REFRESH-INTERVAL;VALUE=DURATION:PT1H
X-Robots-Tag:noindex
X-PUBLISHED-TTL:PT1H
BEGIN:VTIMEZONE
TZID:Europe/London
BEGIN:DAYLIGHT
TZOFFSETFROM:+0000
TZOFFSETTO:+0100
TZNAME:BST
DTSTART:20130331T010000
END:DAYLIGHT
BEGIN:STANDARD
TZOFFSETFROM:+0100
TZOFFSETTO:+0000
TZNAME:GMT
DTSTART:20131027T010000
END:STANDARD
BEGIN:DAYLIGHT
TZOFFSETFROM:+0000
TZOFFSETTO:+0100
TZNAME:BST
DTSTART:20140330T010000
END:DAYLIGHT
BEGIN:STANDARD
TZOFFSETFROM:+0100
TZOFFSETTO:+0000
TZNAME:GMT
DTSTART:20141026T010000
END:STANDARD
BEGIN:DAYLIGHT
TZOFFSETFROM:+0000
TZOFFSETTO:+0100
TZNAME:BST
DTSTART:20150329T010000
END:DAYLIGHT
BEGIN:STANDARD
TZOFFSETFROM:+0100
TZOFFSETTO:+0000
TZNAME:GMT
DTSTART:20151025T010000
END:STANDARD
END:VTIMEZONE
BEGIN:VEVENT
DTSTART;TZID=Europe/London:20140325T093000
DTEND;TZID=Europe/London:20140325T123000
DTSTAMP:20260423T120137
CREATED:20140325T093000Z
LAST-MODIFIED:20140325T093000Z
UID:46500-1395739800-1395750600@c3sc.org.uk
SUMMARY:Mental Health Awareness
DESCRIPTION:A Diverse Cymru half-day course \nAims \n – To provide a basic introduction to mental health and distress – To improve understanding and knowledge of mental health and distress – To reduce stigma and discrimination Learning outcomes By the end the session participants will have increased understanding of: – The basics of mental distress\, common signs and symptoms and causes – Good mental health and what supports mental health – The impact of stigma and diagnosis – What helps people with recovery (including treatments) \nCost: £55 per person     \nFind out more at http://www.diversecymrutraining.org.uk/mental-health-awareness/
URL:https://c3sc.org.uk/event-single/mental-health-awareness-5/
LOCATION:Chapter Arts Centre\, Market Road\, Cardiff CF5 1QE\, Chapter Arts Centre\, Market Road\, Cardiff CF5 1QE
CATEGORIES:Training
END:VEVENT
END:VCALENDAR