BEGIN:VCALENDAR
VERSION:2.0
PRODID:-//C3SC - Cardiff Third Sector Council - ECPv6.15.17//NONSGML v1.0//EN
CALSCALE:GREGORIAN
METHOD:PUBLISH
X-WR-CALNAME:C3SC - Cardiff Third Sector Council
X-ORIGINAL-URL:https://c3sc.org.uk
X-WR-CALDESC:Events for C3SC - Cardiff Third Sector Council
REFRESH-INTERVAL;VALUE=DURATION:PT1H
X-Robots-Tag:noindex
X-PUBLISHED-TTL:PT1H
BEGIN:VTIMEZONE
TZID:Europe/London
BEGIN:DAYLIGHT
TZOFFSETFROM:+0000
TZOFFSETTO:+0100
TZNAME:BST
DTSTART:20180325T010000
END:DAYLIGHT
BEGIN:STANDARD
TZOFFSETFROM:+0100
TZOFFSETTO:+0000
TZNAME:GMT
DTSTART:20181028T010000
END:STANDARD
BEGIN:DAYLIGHT
TZOFFSETFROM:+0000
TZOFFSETTO:+0100
TZNAME:BST
DTSTART:20190331T010000
END:DAYLIGHT
BEGIN:STANDARD
TZOFFSETFROM:+0100
TZOFFSETTO:+0000
TZNAME:GMT
DTSTART:20191027T010000
END:STANDARD
BEGIN:DAYLIGHT
TZOFFSETFROM:+0000
TZOFFSETTO:+0100
TZNAME:BST
DTSTART:20200329T010000
END:DAYLIGHT
BEGIN:STANDARD
TZOFFSETFROM:+0100
TZOFFSETTO:+0000
TZNAME:GMT
DTSTART:20201025T010000
END:STANDARD
END:VTIMEZONE
BEGIN:VEVENT
DTSTART;TZID=Europe/London:20190702T133000
DTEND;TZID=Europe/London:20190702T163000
DTSTAMP:20260422T175351
CREATED:20190619T090636Z
LAST-MODIFIED:20190619T090636Z
UID:50138-1562074200-1562085000@c3sc.org.uk
SUMMARY:Memory Lane Social Club: Open Day
DESCRIPTION:Memory Lane Social Club\nOpen Day\nTuesday 2nd July \n1:30pm – 4:30pm \nCathays Community Centre \n36 – 38 Cathays Terrace CF24 4HX \n  \nA great opportunity for community members\, carers and professionals to connect with services that help and support people affected by dementia. \n  \n \nThe day will feature information stalls run by: \n·         Carers Team \n·         Independent Living Officers \n·         Day Opportunities Team \n·         Alzheimer’s Society \n·         First Point of Contact \n·         United Welsh \n  \nDementia friendly activities throughout the day include: \nSports-fitness based games\, music sing-a-longs and indoor bowls. \n  \n*Refreshments included* \n*All ages welcome* \n*FREE entry* \n \n***Memory Lane Social Club is a weekly activities session\, started in January 2019 at Cathays Community Centre\, for anyone affected by dementia\, running on Tuesday afternoons*** \n \nFor more information\, get in touch\, or check out the event page
URL:https://c3sc.org.uk/event-single/memory-lane-social-club-open-day/
CATEGORIES:Event
ATTACH;FMTTYPE=image/png:https://c3sc.org.uk/wp-content/uploads/Memory_Lane_Social_Club_Open_Day_-_2nd_July.PNG
END:VEVENT
END:VCALENDAR