BEGIN:VCALENDAR
VERSION:2.0
PRODID:-//C3SC - Cardiff Third Sector Council - ECPv6.15.17//NONSGML v1.0//EN
CALSCALE:GREGORIAN
METHOD:PUBLISH
X-WR-CALNAME:C3SC - Cardiff Third Sector Council
X-ORIGINAL-URL:https://c3sc.org.uk
X-WR-CALDESC:Events for C3SC - Cardiff Third Sector Council
REFRESH-INTERVAL;VALUE=DURATION:PT1H
X-Robots-Tag:noindex
X-PUBLISHED-TTL:PT1H
BEGIN:VTIMEZONE
TZID:Europe/London
BEGIN:DAYLIGHT
TZOFFSETFROM:+0000
TZOFFSETTO:+0100
TZNAME:BST
DTSTART:20180325T010000
END:DAYLIGHT
BEGIN:STANDARD
TZOFFSETFROM:+0100
TZOFFSETTO:+0000
TZNAME:GMT
DTSTART:20181028T010000
END:STANDARD
BEGIN:DAYLIGHT
TZOFFSETFROM:+0000
TZOFFSETTO:+0100
TZNAME:BST
DTSTART:20190331T010000
END:DAYLIGHT
BEGIN:STANDARD
TZOFFSETFROM:+0100
TZOFFSETTO:+0000
TZNAME:GMT
DTSTART:20191027T010000
END:STANDARD
BEGIN:DAYLIGHT
TZOFFSETFROM:+0000
TZOFFSETTO:+0100
TZNAME:BST
DTSTART:20200329T010000
END:DAYLIGHT
BEGIN:STANDARD
TZOFFSETFROM:+0100
TZOFFSETTO:+0000
TZNAME:GMT
DTSTART:20201025T010000
END:STANDARD
END:VTIMEZONE
BEGIN:VEVENT
DTSTART;VALUE=DATE:20191126
DTEND;VALUE=DATE:20191127
DTSTAMP:20260424T021726
CREATED:20190916T112631Z
LAST-MODIFIED:20190916T112631Z
UID:50275-1574726400-1574812799@c3sc.org.uk
SUMMARY:Making Information easy to read & understand
DESCRIPTION:Making Information Easy to Read & Understand level 1  26 November in Cardiff \n\n\n\n\n\n\n\n\n\n\n\n\n\n\n\n\n\n\n\nDear friends\, \n This one day course will help you make information easier to read and understand for people with a learning disability. \n It will help you to produce \n\nleaflets\nletters\nminutes from meetings\nagendas\nreports\nposters\n\n After the course you will be able to use clear words\, sentences and grammar work out the relevant information to be included in an easy read document use pictures and images to make information clear structure documents so they are easy to follow get going straightaway making accessible documents.   This course is designed for anyone who writes and produces written information that needs to be clearly understood\, especially by people with a learning disability. If you have any queries\, please get in touch with me on 02920681174 or email me. \n Best wishes\, \n Inacia    \n\n\n\nInacia Rodrigues Training & Events Coordinator Learning Disability Wales Direct Tel: 029 2068 1174 Reception: 029 2068 1160 My normal working days are Monday – Friday\n  Cydlynydd Hyfforddiant a Digwyddiadau  Anabledd Dysgu Cymru Ffôn Uniongyrchol: 029 2068 1174 Derbynfa: 029 2068 1160 Fy niwrnodau gwaith arferol yw Dydd  Llun – Dydd Gwener  \n\n\n\n\n\n\n\n\n\n\n\n\n\n\n\n\n\n\n \n\n\n\n\n\n\n\n\n\n\n\n\n\n\n\n\n\n\n\n\n\n\n\n\n\n\n\n\n\n\n\n\n\n\n\n\n\nBook a place now \n\n\n\n\n\n\n\n\n\n\n\n\n\n\n\nInhouse training
URL:https://c3sc.org.uk/event-single/making-information-easy-to-read-understand/
CATEGORIES:Training
ATTACH;FMTTYPE=image/jpeg:https://c3sc.org.uk/wp-content/uploads/d867e773-8983-4634-97af-e600dbc8d513.jpg
END:VEVENT
END:VCALENDAR