BEGIN:VCALENDAR
VERSION:2.0
PRODID:-//C3SC - Cardiff Third Sector Council - ECPv6.15.17//NONSGML v1.0//EN
CALSCALE:GREGORIAN
METHOD:PUBLISH
X-WR-CALNAME:C3SC - Cardiff Third Sector Council
X-ORIGINAL-URL:https://c3sc.org.uk
X-WR-CALDESC:Events for C3SC - Cardiff Third Sector Council
REFRESH-INTERVAL;VALUE=DURATION:PT1H
X-Robots-Tag:noindex
X-PUBLISHED-TTL:PT1H
BEGIN:VTIMEZONE
TZID:Europe/London
BEGIN:DAYLIGHT
TZOFFSETFROM:+0000
TZOFFSETTO:+0100
TZNAME:BST
DTSTART:20170326T010000
END:DAYLIGHT
BEGIN:STANDARD
TZOFFSETFROM:+0100
TZOFFSETTO:+0000
TZNAME:GMT
DTSTART:20171029T010000
END:STANDARD
BEGIN:DAYLIGHT
TZOFFSETFROM:+0000
TZOFFSETTO:+0100
TZNAME:BST
DTSTART:20180325T010000
END:DAYLIGHT
BEGIN:STANDARD
TZOFFSETFROM:+0100
TZOFFSETTO:+0000
TZNAME:GMT
DTSTART:20181028T010000
END:STANDARD
BEGIN:DAYLIGHT
TZOFFSETFROM:+0000
TZOFFSETTO:+0100
TZNAME:BST
DTSTART:20190331T010000
END:DAYLIGHT
BEGIN:STANDARD
TZOFFSETFROM:+0100
TZOFFSETTO:+0000
TZNAME:GMT
DTSTART:20191027T010000
END:STANDARD
END:VTIMEZONE
BEGIN:VEVENT
DTSTART;TZID=Europe/London:20181114T100000
DTEND;TZID=Europe/London:20181114T123000
DTSTAMP:20260426T051445
CREATED:20181026T111608Z
LAST-MODIFIED:20181026T111608Z
UID:49872-1542189600-1542198600@c3sc.org.uk
SUMMARY:Love Your Liver - sponsored by Dai Lloyd AM
DESCRIPTION:We invite you to our Love Your Liver awareness raising eventEvent location: Neuadd Hall\, National Assembly for Wales\, Cardiff Bay Event date: Wednesday 14th November 2018 Event time: 10:00am to 12:30pm \nAgenda09:30 – Registration\, tea and coffee.10:00 – Welcome and opening of the event – Chair of the Health\, Social Care and Sport Committee\, Dai Lloyd AM.10:15 – Liver health and liver disease: the facts – Judi Rhys\, Chief Executive\, British Liver Trust.10:30 – Guest speaker with personal experience of liver disease10:45 – Guest speaker with personal experience of liver disease11:00 – Cabinet Secretary for Health and Social Services\, Vaughan Gething AM: What we are doing now for liver health in Wales.11:15 – What next?11:30 – Lunch and networking12:30 – ClosePlease RSVP to angie.contestabile@britishlivertrust.org.uk and include any access\, language or dietary requirements in your response.
URL:https://c3sc.org.uk/event-single/love-your-liver-sponsored-by-dai-lloyd-am/
LOCATION:Neuadd Hall\, National Assembly for Wales\, Cardiff Bay\, Neuadd Hall\, National Assembly for Wales\, Cardiff Bay
CATEGORIES:Event
END:VEVENT
END:VCALENDAR