BEGIN:VCALENDAR
VERSION:2.0
PRODID:-//C3SC - Cardiff Third Sector Council - ECPv6.15.17//NONSGML v1.0//EN
CALSCALE:GREGORIAN
METHOD:PUBLISH
X-WR-CALNAME:C3SC - Cardiff Third Sector Council
X-ORIGINAL-URL:https://c3sc.org.uk
X-WR-CALDESC:Events for C3SC - Cardiff Third Sector Council
REFRESH-INTERVAL;VALUE=DURATION:PT1H
X-Robots-Tag:noindex
X-PUBLISHED-TTL:PT1H
BEGIN:VTIMEZONE
TZID:Europe/London
BEGIN:DAYLIGHT
TZOFFSETFROM:+0000
TZOFFSETTO:+0100
TZNAME:BST
DTSTART:20180325T010000
END:DAYLIGHT
BEGIN:STANDARD
TZOFFSETFROM:+0100
TZOFFSETTO:+0000
TZNAME:GMT
DTSTART:20181028T010000
END:STANDARD
BEGIN:DAYLIGHT
TZOFFSETFROM:+0000
TZOFFSETTO:+0100
TZNAME:BST
DTSTART:20190331T010000
END:DAYLIGHT
BEGIN:STANDARD
TZOFFSETFROM:+0100
TZOFFSETTO:+0000
TZNAME:GMT
DTSTART:20191027T010000
END:STANDARD
BEGIN:DAYLIGHT
TZOFFSETFROM:+0000
TZOFFSETTO:+0100
TZNAME:BST
DTSTART:20200329T010000
END:DAYLIGHT
BEGIN:STANDARD
TZOFFSETFROM:+0100
TZOFFSETTO:+0000
TZNAME:GMT
DTSTART:20201025T010000
END:STANDARD
END:VTIMEZONE
BEGIN:VEVENT
DTSTART;TZID=Europe/London:20190329T110000
DTEND;TZID=Europe/London:20190329T120000
DTSTAMP:20260425T235741
CREATED:20190314T142536Z
LAST-MODIFIED:20190314T142536Z
UID:49981-1553857200-1553860800@c3sc.org.uk
SUMMARY:Live Music Now: Musicians from Yehudi Menuhin’s Scheme
DESCRIPTION:Concerts and Cakes Cyngherddau a Chacennau \nA Dementia Friendly Event \nat Grangetown Community Hub  \nDigwyddiad Cyfeillgar Dementia yng Nghanolfan Gymunedol Grangetown \n  \nfeaturing Llywelyn Ifan Jones  \nHarp \n \nFriday 29 March 2019 11.00a.m. Dydd Gwener 29 Mawrth 2019  \n \nEnjoy a Hot Drink and Cake Mwynhewch Diod a Chacen Poeth
URL:https://c3sc.org.uk/event-single/live-music-now-musicians-from-yehudi-menuhins-scheme/
LOCATION:Grangetown Community Hub\, Grangetown Community Hub
CATEGORIES:Event
END:VEVENT
END:VCALENDAR