BEGIN:VCALENDAR
VERSION:2.0
PRODID:-//C3SC - Cardiff Third Sector Council - ECPv6.15.17//NONSGML v1.0//EN
CALSCALE:GREGORIAN
METHOD:PUBLISH
X-WR-CALNAME:C3SC - Cardiff Third Sector Council
X-ORIGINAL-URL:https://c3sc.org.uk
X-WR-CALDESC:Events for C3SC - Cardiff Third Sector Council
REFRESH-INTERVAL;VALUE=DURATION:PT1H
X-Robots-Tag:noindex
X-PUBLISHED-TTL:PT1H
BEGIN:VTIMEZONE
TZID:Europe/London
BEGIN:DAYLIGHT
TZOFFSETFROM:+0000
TZOFFSETTO:+0100
TZNAME:BST
DTSTART:20180325T010000
END:DAYLIGHT
BEGIN:STANDARD
TZOFFSETFROM:+0100
TZOFFSETTO:+0000
TZNAME:GMT
DTSTART:20181028T010000
END:STANDARD
BEGIN:DAYLIGHT
TZOFFSETFROM:+0000
TZOFFSETTO:+0100
TZNAME:BST
DTSTART:20190331T010000
END:DAYLIGHT
BEGIN:STANDARD
TZOFFSETFROM:+0100
TZOFFSETTO:+0000
TZNAME:GMT
DTSTART:20191027T010000
END:STANDARD
BEGIN:DAYLIGHT
TZOFFSETFROM:+0000
TZOFFSETTO:+0100
TZNAME:BST
DTSTART:20200329T010000
END:DAYLIGHT
BEGIN:STANDARD
TZOFFSETFROM:+0100
TZOFFSETTO:+0000
TZNAME:GMT
DTSTART:20201025T010000
END:STANDARD
END:VTIMEZONE
BEGIN:VEVENT
DTSTART;VALUE=DATE:20190325
DTEND;VALUE=DATE:20190326
DTSTAMP:20260423T062324
CREATED:20190123T155355Z
LAST-MODIFIED:20190123T155355Z
UID:49907-1553472000-1553558399@c3sc.org.uk
SUMMARY:LEARNING DISABILITY WALES: Making Information Easy to Read & Understand: Level 2
DESCRIPTION:This course will include a recap on the principles of Making Information Easy to Read and Understand Level 1 and then look at how delegates can develop and improve their skills. It will help delegates work with longer and more complex documents. \n This course is designed for anyone who has attended Making Information Easy to Read and Understand Level 1 or who has experience of writing information in Easy Read. \nClick here to book your place
URL:https://c3sc.org.uk/event-single/learning-disability-wales-making-information-easy-to-read-understand-level-2/
LOCATION:Learning Disability Wales\, Learning Disability Wales
CATEGORIES:Training
END:VEVENT
END:VCALENDAR