BEGIN:VCALENDAR
VERSION:2.0
PRODID:-//C3SC - Cardiff Third Sector Council - ECPv6.15.17//NONSGML v1.0//EN
CALSCALE:GREGORIAN
METHOD:PUBLISH
X-WR-CALNAME:C3SC - Cardiff Third Sector Council
X-ORIGINAL-URL:https://c3sc.org.uk
X-WR-CALDESC:Events for C3SC - Cardiff Third Sector Council
REFRESH-INTERVAL;VALUE=DURATION:PT1H
X-Robots-Tag:noindex
X-PUBLISHED-TTL:PT1H
BEGIN:VTIMEZONE
TZID:Europe/London
BEGIN:DAYLIGHT
TZOFFSETFROM:+0000
TZOFFSETTO:+0100
TZNAME:BST
DTSTART:20200329T010000
END:DAYLIGHT
BEGIN:STANDARD
TZOFFSETFROM:+0100
TZOFFSETTO:+0000
TZNAME:GMT
DTSTART:20201025T010000
END:STANDARD
BEGIN:DAYLIGHT
TZOFFSETFROM:+0000
TZOFFSETTO:+0100
TZNAME:BST
DTSTART:20210328T010000
END:DAYLIGHT
BEGIN:STANDARD
TZOFFSETFROM:+0100
TZOFFSETTO:+0000
TZNAME:GMT
DTSTART:20211031T010000
END:STANDARD
BEGIN:DAYLIGHT
TZOFFSETFROM:+0000
TZOFFSETTO:+0100
TZNAME:BST
DTSTART:20220327T010000
END:DAYLIGHT
BEGIN:STANDARD
TZOFFSETFROM:+0100
TZOFFSETTO:+0000
TZNAME:GMT
DTSTART:20221030T010000
END:STANDARD
END:VTIMEZONE
BEGIN:VEVENT
DTSTART;TZID=Europe/London:20211123T100000
DTEND;TZID=Europe/London:20211123T130000
DTSTAMP:20260421T092100
CREATED:20211005T151832Z
LAST-MODIFIED:20211005T152220Z
UID:60874-1637661600-1637672400@c3sc.org.uk
SUMMARY:Introduction to Safeguarding Course: online training session
DESCRIPTION:Delivered by WCVA in Partnership with Cardiff Third Sector Council (C3SC) \nThe course aims to support Third Sector organisations in Cardiff to gain a basic awareness introduction to generic safeguarding; covering all age groups\, and as broadly applicable to all settings as possible. \nThe main outcomes are to: \n\nHave increased understanding of what is meant by “safeguarding” and how it is related to different role\nHave increased awareness of expected safeguarding policy and practice\nHave increased awareness of the legislation that underpins safeguarding in Wales\nKnow where to find a wider range of safeguarding resources\n\nTo book your place please follow this link: Introduction to Safeguarding Course Tickets\, Tue 23 Nov 2021 at 10:00 | Eventbrite
URL:https://c3sc.org.uk/event-single/introduction-to-safeguarding-course-online-training-session/
LOCATION:Zoom
CATEGORIES:Training
ATTACH;FMTTYPE=image/jpeg:https://c3sc.org.uk/wp-content/uploads/Artboard-14-scaled-1.jpg
ORGANIZER;CN="C3SC":MAILTO:enquiries@c3sc.org.uk
END:VEVENT
END:VCALENDAR