BEGIN:VCALENDAR
VERSION:2.0
PRODID:-//C3SC - Cardiff Third Sector Council - ECPv6.15.17//NONSGML v1.0//EN
CALSCALE:GREGORIAN
METHOD:PUBLISH
X-WR-CALNAME:C3SC - Cardiff Third Sector Council
X-ORIGINAL-URL:https://c3sc.org.uk
X-WR-CALDESC:Events for C3SC - Cardiff Third Sector Council
REFRESH-INTERVAL;VALUE=DURATION:PT1H
X-Robots-Tag:noindex
X-PUBLISHED-TTL:PT1H
BEGIN:VTIMEZONE
TZID:Europe/London
BEGIN:DAYLIGHT
TZOFFSETFROM:+0000
TZOFFSETTO:+0100
TZNAME:BST
DTSTART:20180325T010000
END:DAYLIGHT
BEGIN:STANDARD
TZOFFSETFROM:+0100
TZOFFSETTO:+0000
TZNAME:GMT
DTSTART:20181028T010000
END:STANDARD
BEGIN:DAYLIGHT
TZOFFSETFROM:+0000
TZOFFSETTO:+0100
TZNAME:BST
DTSTART:20190331T010000
END:DAYLIGHT
BEGIN:STANDARD
TZOFFSETFROM:+0100
TZOFFSETTO:+0000
TZNAME:GMT
DTSTART:20191027T010000
END:STANDARD
BEGIN:DAYLIGHT
TZOFFSETFROM:+0000
TZOFFSETTO:+0100
TZNAME:BST
DTSTART:20200329T010000
END:DAYLIGHT
BEGIN:STANDARD
TZOFFSETFROM:+0100
TZOFFSETTO:+0000
TZNAME:GMT
DTSTART:20201025T010000
END:STANDARD
END:VTIMEZONE
BEGIN:VEVENT
DTSTART;VALUE=DATE:20191125
DTEND;VALUE=DATE:20191126
DTSTAMP:20260424T021948
CREATED:20190927T091138Z
LAST-MODIFIED:20190927T091138Z
UID:50279-1574640000-1574726399@c3sc.org.uk
SUMMARY:international day for the Elimination of VAW & white ribbon day
DESCRIPTION:Invitation to mark International Day for the Elimination of VAW &White Ribbon Day1.45pm – 5pm Cross-party stakeholder eventSpeakers\, discussions\, workshops\, promotional stands and photos with pledge boards.Speakers (2pm – 3pm)Yasmin Khan – National Adviser VAWDASVRachel Williams – Domestic Abuse Survivor and CampaignerWill Hayward – Journalist\, Western MailNetworking\, photo opportunity & light refreshments (3pm – 4pm)Please bring something white to wear for a group photoWorkshops (4pm – 5pm) \n5pm – 6pm Candlelight Vigil
URL:https://c3sc.org.uk/event-single/international-day-for-the-elimination-of-vaw-white-ribbon-day/
LOCATION:Senedd\, Cardiff Bay\, Senedd\, Cardiff Bay
CATEGORIES:Event
END:VEVENT
END:VCALENDAR