BEGIN:VCALENDAR
VERSION:2.0
PRODID:-//C3SC - Cardiff Third Sector Council - ECPv6.15.17//NONSGML v1.0//EN
CALSCALE:GREGORIAN
METHOD:PUBLISH
X-WR-CALNAME:C3SC - Cardiff Third Sector Council
X-ORIGINAL-URL:https://c3sc.org.uk
X-WR-CALDESC:Events for C3SC - Cardiff Third Sector Council
REFRESH-INTERVAL;VALUE=DURATION:PT1H
X-Robots-Tag:noindex
X-PUBLISHED-TTL:PT1H
BEGIN:VTIMEZONE
TZID:Europe/London
BEGIN:DAYLIGHT
TZOFFSETFROM:+0000
TZOFFSETTO:+0100
TZNAME:BST
DTSTART:20130331T010000
END:DAYLIGHT
BEGIN:STANDARD
TZOFFSETFROM:+0100
TZOFFSETTO:+0000
TZNAME:GMT
DTSTART:20131027T010000
END:STANDARD
BEGIN:DAYLIGHT
TZOFFSETFROM:+0000
TZOFFSETTO:+0100
TZNAME:BST
DTSTART:20140330T010000
END:DAYLIGHT
BEGIN:STANDARD
TZOFFSETFROM:+0100
TZOFFSETTO:+0000
TZNAME:GMT
DTSTART:20141026T010000
END:STANDARD
BEGIN:DAYLIGHT
TZOFFSETFROM:+0000
TZOFFSETTO:+0100
TZNAME:BST
DTSTART:20150329T010000
END:DAYLIGHT
BEGIN:STANDARD
TZOFFSETFROM:+0100
TZOFFSETTO:+0000
TZNAME:GMT
DTSTART:20151025T010000
END:STANDARD
END:VTIMEZONE
BEGIN:VEVENT
DTSTART;TZID=Europe/London:20141029T100000
DTEND;TZID=Europe/London:20141029T235959
DTSTAMP:20260425T195748
CREATED:20141016T100322Z
LAST-MODIFIED:20141016T100322Z
UID:47134-1414576800-1414627199@c3sc.org.uk
SUMMARY:Help the NHS improve their website
DESCRIPTION:Over 3.5 million people visited the NHS Direct Wales website last year\, using it to find information\, advice and guidance about all sorts of health issues. \nThe NHS knows there’s still lots more they can do to improve and make the website even better for you. If you’re interested in influencing how the website looks\, go along to this workshop. \nBooking is required. Call Erin Abbott on 01792 776252 Ext. 45444 or email erin.abbott@wales.nhs.uk
URL:https://c3sc.org.uk/event-single/help-the-nhs-improve-their-website/
LOCATION:Ty Dewi St\, Cardiff University\, Heath Park Campus\, Cardiff CF14 4YS\, Ty Dewi St\, Cardiff University\, Heath Park Campus\, Cardiff CF14 4YS
CATEGORIES:Event
END:VEVENT
END:VCALENDAR