BEGIN:VCALENDAR
VERSION:2.0
PRODID:-//C3SC - Cardiff Third Sector Council - ECPv6.15.17//NONSGML v1.0//EN
CALSCALE:GREGORIAN
METHOD:PUBLISH
X-WR-CALNAME:C3SC - Cardiff Third Sector Council
X-ORIGINAL-URL:https://c3sc.org.uk
X-WR-CALDESC:Events for C3SC - Cardiff Third Sector Council
REFRESH-INTERVAL;VALUE=DURATION:PT1H
X-Robots-Tag:noindex
X-PUBLISHED-TTL:PT1H
BEGIN:VTIMEZONE
TZID:Europe/London
BEGIN:DAYLIGHT
TZOFFSETFROM:+0000
TZOFFSETTO:+0100
TZNAME:BST
DTSTART:20110327T010000
END:DAYLIGHT
BEGIN:STANDARD
TZOFFSETFROM:+0100
TZOFFSETTO:+0000
TZNAME:GMT
DTSTART:20111030T010000
END:STANDARD
BEGIN:DAYLIGHT
TZOFFSETFROM:+0000
TZOFFSETTO:+0100
TZNAME:BST
DTSTART:20120325T010000
END:DAYLIGHT
BEGIN:STANDARD
TZOFFSETFROM:+0100
TZOFFSETTO:+0000
TZNAME:GMT
DTSTART:20121028T010000
END:STANDARD
BEGIN:DAYLIGHT
TZOFFSETFROM:+0000
TZOFFSETTO:+0100
TZNAME:BST
DTSTART:20130331T010000
END:DAYLIGHT
BEGIN:STANDARD
TZOFFSETFROM:+0100
TZOFFSETTO:+0000
TZNAME:GMT
DTSTART:20131027T010000
END:STANDARD
END:VTIMEZONE
BEGIN:VEVENT
DTSTART;TZID=Europe/London:20120726T140000
DTEND;TZID=Europe/London:20120726T160000
DTSTAMP:20260421T031653
CREATED:20120726T130000Z
LAST-MODIFIED:20120726T130000Z
UID:44754-1343311200-1343318400@c3sc.org.uk
SUMMARY:'Hear to Meet'
DESCRIPTION:Any adult (50+) who is experiencing some hearing loss is welcome to come along. Run by Action on Hearing Loss Cymru\, ‘Hear to Meet’ is simply a chance to meet new people\, discover similar interests and enjoy activities. Hearing loss can be quite isolating and sometimes meeting others in a similar situation can help regain or reinforce confidence.  \nAny adult interested in ‘Hear to Meet’ should contact Becky at the contact details below or turn up on the day. Hear to Meet Thornhill meets on the last Thursday of each month from 2-4pm.  \nThere will be having a speaker from the Welsh Ambulance Service who will be talking about some of the vital work that they do across Wales\, followed by refreshments\, chat and games.
URL:https://c3sc.org.uk/event-single/hear-to-meet/
LOCATION:Thornhill Church Centre\, Excalibur Drive\, Thornhill Church Centre\, Excalibur Drive
CATEGORIES:Event
END:VEVENT
END:VCALENDAR