BEGIN:VCALENDAR
VERSION:2.0
PRODID:-//C3SC - Cardiff Third Sector Council - ECPv6.15.17//NONSGML v1.0//EN
CALSCALE:GREGORIAN
METHOD:PUBLISH
X-WR-CALNAME:C3SC - Cardiff Third Sector Council
X-ORIGINAL-URL:https://c3sc.org.uk
X-WR-CALDESC:Events for C3SC - Cardiff Third Sector Council
REFRESH-INTERVAL;VALUE=DURATION:PT1H
X-Robots-Tag:noindex
X-PUBLISHED-TTL:PT1H
BEGIN:VTIMEZONE
TZID:Europe/London
BEGIN:DAYLIGHT
TZOFFSETFROM:+0000
TZOFFSETTO:+0100
TZNAME:BST
DTSTART:20210328T010000
END:DAYLIGHT
BEGIN:STANDARD
TZOFFSETFROM:+0100
TZOFFSETTO:+0000
TZNAME:GMT
DTSTART:20211031T010000
END:STANDARD
BEGIN:DAYLIGHT
TZOFFSETFROM:+0000
TZOFFSETTO:+0100
TZNAME:BST
DTSTART:20220327T010000
END:DAYLIGHT
BEGIN:STANDARD
TZOFFSETFROM:+0100
TZOFFSETTO:+0000
TZNAME:GMT
DTSTART:20221030T010000
END:STANDARD
BEGIN:DAYLIGHT
TZOFFSETFROM:+0000
TZOFFSETTO:+0100
TZNAME:BST
DTSTART:20230326T010000
END:DAYLIGHT
BEGIN:STANDARD
TZOFFSETFROM:+0100
TZOFFSETTO:+0000
TZNAME:GMT
DTSTART:20231029T010000
END:STANDARD
END:VTIMEZONE
BEGIN:VEVENT
DTSTART;TZID=Europe/London:20220609T100000
DTEND;TZID=Europe/London:20220609T120000
DTSTAMP:20260420T044649
CREATED:20220520T131130Z
LAST-MODIFIED:20220520T131130Z
UID:64498-1654768800-1654776000@c3sc.org.uk
SUMMARY:Health\, Social Care and Wellbeing Network Meeting
DESCRIPTION:An opportunity for Third Sector organisations to share good practice and provide support to each other. \nThis event will provide an opportunity for third sector organisations to share information and to highlight and discuss issues that are current at the moment. \nTo book this event for FREE\, visit: https://www.eventbrite.co.uk/e/health-social-care-and-wellbeing-network-meeting-tickets-344679615007 \nThe event will be taking place online and the link will be sent through within 24 hours of the event taking place. \nFor any further enquiry\, contact us at enquiries@c3sc.org.uk
URL:https://c3sc.org.uk/event-single/health-social-care-and-wellbeing-network-meeting-3/
CATEGORIES:Meeting
ATTACH;FMTTYPE=image/png:https://c3sc.org.uk/wp-content/uploads/WEBSITE-THUMBNAIL-1000-×-1000-px.png
END:VEVENT
END:VCALENDAR