BEGIN:VCALENDAR
VERSION:2.0
PRODID:-//C3SC - Cardiff Third Sector Council - ECPv6.15.17//NONSGML v1.0//EN
CALSCALE:GREGORIAN
METHOD:PUBLISH
X-WR-CALNAME:C3SC - Cardiff Third Sector Council
X-ORIGINAL-URL:https://c3sc.org.uk
X-WR-CALDESC:Events for C3SC - Cardiff Third Sector Council
REFRESH-INTERVAL;VALUE=DURATION:PT1H
X-Robots-Tag:noindex
X-PUBLISHED-TTL:PT1H
BEGIN:VTIMEZONE
TZID:Europe/London
BEGIN:DAYLIGHT
TZOFFSETFROM:+0000
TZOFFSETTO:+0100
TZNAME:BST
DTSTART:20180325T010000
END:DAYLIGHT
BEGIN:STANDARD
TZOFFSETFROM:+0100
TZOFFSETTO:+0000
TZNAME:GMT
DTSTART:20181028T010000
END:STANDARD
BEGIN:DAYLIGHT
TZOFFSETFROM:+0000
TZOFFSETTO:+0100
TZNAME:BST
DTSTART:20190331T010000
END:DAYLIGHT
BEGIN:STANDARD
TZOFFSETFROM:+0100
TZOFFSETTO:+0000
TZNAME:GMT
DTSTART:20191027T010000
END:STANDARD
BEGIN:DAYLIGHT
TZOFFSETFROM:+0000
TZOFFSETTO:+0100
TZNAME:BST
DTSTART:20200329T010000
END:DAYLIGHT
BEGIN:STANDARD
TZOFFSETFROM:+0100
TZOFFSETTO:+0000
TZNAME:GMT
DTSTART:20201025T010000
END:STANDARD
END:VTIMEZONE
BEGIN:VEVENT
DTSTART;TZID=Europe/London:20190708T103000
DTEND;TZID=Europe/London:20190708T150000
DTSTAMP:20260423T185210
CREATED:20190221T140428Z
LAST-MODIFIED:20190221T140428Z
UID:49946-1562581800-1562598000@c3sc.org.uk
SUMMARY:Gypsy\, Roma & Traveller History Month Childrens Festival 2019
DESCRIPTION:INVITATION TO Gypsy\, Roma & Traveller History Month Childrens Festival 2019 \nDate: Monday 8th July 2019 – 10.30am – 3pm \nVenue: St David’s Hall\, The Hayes\, Cardiff CF10 1AH  \nhttp://www.romaniarts.co.uk/gypsy-roma-and-traveller-history-month-in-wales-2019/ \n  \nSOME INFORMATION ABOUT THE EVENT: \nChallenge your opinions\, indulge in the culture and share in the activities that demonstrate a rich cultural heritage within Wales.  \n It’s free to adults and children alike from all backgrounds and communities!   \nThere will be films\, live performances\, art\, and exhibitions that showcase the cultural diversity of the Gypsy\, Roma and Traveller community in Wales. You will be astonished and engaged by the amazing skills\, heritage\, stories\, history\, art\, theatre and dance that will be displayed throughout the day.   \nWhatever your background\, ability\, perception or age\, come and join this ever growing annual event that provide fun for all the family.   \nIsaac Blake Director of the Romani Cultural and Arts Company says “We are proud to be leading on this successful programme again in 2019. It is exciting to be able to link up so many different communities to celebrate tolerance and diversity.” \nDr Adrian Marsh\, “Gypsy\, Roma\, Traveller History Month is the opportunity to acknowledge the extraordinary genius of the Romani and Traveller communities in all their rich diversity and their contribution to Welsh and more broadly\, British society\, in the face of almost overwhelming prejudice and intolerance. The Romani language has influenced popular English\, with words such as “dad”\, “pal”\, “kushti” and others that even appear in Shakespeare’s ‘As You Like It’ (dukka me\, or ‘I fortell’); Romani culture has brought the fairy-tale from its Indian origins to Britain\, herbal lore and medicines\, puppets\, plays and mummery; all these owe their origins or were profoundly influenced by Romani culture from the east. Metal-working and complex smithying were trades that were carried by Travellers and Romani communities through the British Isles\, along with horses and trading in dogs\, birds and rabbits. Fortune-telling and entertainment of all kinds were widely considered to be the prerogative of Romani people from the mediaeval period to the early twentieth century\, especially in rural Britain. Much of what is considered English\, Scottish or Welsh ‘folk’ music and dance owes its existence to Romani traditions and Irish ‘traditional’ music is almost entirely based in the heritage of the Travelling people. The History Month is a chance to rediscover the contribution to the past and the present that Romani and Traveller people have made and to recognise that our history has been hidden.” \nShould you be working with schools in any capacity\, please can you forward the attached ‘Schools Invitation’ to your Headteacher contacts.
URL:https://c3sc.org.uk/event-single/gypsy-roma-traveller-history-month-childrens-festival-2019/
LOCATION:St David’s Hall\, The Hayes\, Cardiff CF10 1AH\, St David’s Hall\, The Hayes\, Cardiff CF10 1AH
CATEGORIES:Event
END:VEVENT
END:VCALENDAR