BEGIN:VCALENDAR
VERSION:2.0
PRODID:-//C3SC - Cardiff Third Sector Council - ECPv6.15.17//NONSGML v1.0//EN
CALSCALE:GREGORIAN
METHOD:PUBLISH
X-WR-CALNAME:C3SC - Cardiff Third Sector Council
X-ORIGINAL-URL:https://c3sc.org.uk
X-WR-CALDESC:Events for C3SC - Cardiff Third Sector Council
REFRESH-INTERVAL;VALUE=DURATION:PT1H
X-Robots-Tag:noindex
X-PUBLISHED-TTL:PT1H
BEGIN:VTIMEZONE
TZID:Europe/London
BEGIN:DAYLIGHT
TZOFFSETFROM:+0000
TZOFFSETTO:+0100
TZNAME:BST
DTSTART:20110327T010000
END:DAYLIGHT
BEGIN:STANDARD
TZOFFSETFROM:+0100
TZOFFSETTO:+0000
TZNAME:GMT
DTSTART:20111030T010000
END:STANDARD
BEGIN:DAYLIGHT
TZOFFSETFROM:+0000
TZOFFSETTO:+0100
TZNAME:BST
DTSTART:20120325T010000
END:DAYLIGHT
BEGIN:STANDARD
TZOFFSETFROM:+0100
TZOFFSETTO:+0000
TZNAME:GMT
DTSTART:20121028T010000
END:STANDARD
BEGIN:DAYLIGHT
TZOFFSETFROM:+0000
TZOFFSETTO:+0100
TZNAME:BST
DTSTART:20130331T010000
END:DAYLIGHT
BEGIN:STANDARD
TZOFFSETFROM:+0100
TZOFFSETTO:+0000
TZNAME:GMT
DTSTART:20131027T010000
END:STANDARD
END:VTIMEZONE
BEGIN:VEVENT
DTSTART;VALUE=DATE:20120705
DTEND;VALUE=DATE:20120706
DTSTAMP:20260424T133915
CREATED:20120704T230000Z
LAST-MODIFIED:20120704T230000Z
UID:44690-1341446400-1341532799@c3sc.org.uk
SUMMARY:Gift Aid registration surgery - five simple steps to Gift Aid
DESCRIPTION:This half-day WCVA course aims to provide you with practical information so that you are able to understand the benefits of income you could generate from Gift Aid and the process of registration. \nBy attending this session you will understand how to: \n• Register with HMRC to claim Gift Aid• Encourage your donors to complete Gift Aid declarations• Maintain appropriate records• Make a claim for Gift Aid• Promote Gift Aid• Ensure your organisation complies with relevant legislation and best practice• Know where to go for further information\, help and advice \nWho are these surgeries for?These sessions are aimed at those not already registered with HMRC to claim Gift Aid\, but may also be useful to those already registered but who want to ensure that they are claiming on everything to which they are entitled. \nPrice: £10 for voluntary and community organisations operating in Wales. \nFind out more on the WCVA website.
URL:https://c3sc.org.uk/event-single/gift-aid-registration-surgery-five-simple-steps-to-gift-aid/
LOCATION:Baltic House\, Cardiff Bay\, Cardiff\, Baltic House\, Cardiff Bay\, Cardiff
CATEGORIES:Training
END:VEVENT
END:VCALENDAR