BEGIN:VCALENDAR
VERSION:2.0
PRODID:-//C3SC - Cardiff Third Sector Council - ECPv6.15.17//NONSGML v1.0//EN
CALSCALE:GREGORIAN
METHOD:PUBLISH
X-WR-CALNAME:C3SC - Cardiff Third Sector Council
X-ORIGINAL-URL:https://c3sc.org.uk
X-WR-CALDESC:Events for C3SC - Cardiff Third Sector Council
REFRESH-INTERVAL;VALUE=DURATION:PT1H
X-Robots-Tag:noindex
X-PUBLISHED-TTL:PT1H
BEGIN:VTIMEZONE
TZID:Europe/London
BEGIN:DAYLIGHT
TZOFFSETFROM:+0000
TZOFFSETTO:+0100
TZNAME:BST
DTSTART:20210328T010000
END:DAYLIGHT
BEGIN:STANDARD
TZOFFSETFROM:+0100
TZOFFSETTO:+0000
TZNAME:GMT
DTSTART:20211031T010000
END:STANDARD
BEGIN:DAYLIGHT
TZOFFSETFROM:+0000
TZOFFSETTO:+0100
TZNAME:BST
DTSTART:20220327T010000
END:DAYLIGHT
BEGIN:STANDARD
TZOFFSETFROM:+0100
TZOFFSETTO:+0000
TZNAME:GMT
DTSTART:20221030T010000
END:STANDARD
BEGIN:DAYLIGHT
TZOFFSETFROM:+0000
TZOFFSETTO:+0100
TZNAME:BST
DTSTART:20230326T010000
END:DAYLIGHT
BEGIN:STANDARD
TZOFFSETFROM:+0100
TZOFFSETTO:+0000
TZNAME:GMT
DTSTART:20231029T010000
END:STANDARD
END:VTIMEZONE
BEGIN:VEVENT
DTSTART;TZID=Europe/London:20220330T130000
DTEND;TZID=Europe/London:20220330T160000
DTSTAMP:20260420T062827
CREATED:20220308T132556Z
LAST-MODIFIED:20220308T133524Z
UID:63879-1648645200-1648656000@c3sc.org.uk
SUMMARY:Getting the Best from your Volunteers
DESCRIPTION:(Sgroliwch i lawr am y Gymraeg) \nThe training will help you improve your knowledge on Getting the Best from your Volunteers. It would be suitable for volunteer managers\, coordinators\, supervisors\, team leaders and individuals who have responsibility for recruiting\, training and managing volunteers. Volunteers are welcome to apply and will be allocated a space\, on a first come first served basis. By the end of the course\, you will: \n\nUnderstand what motivates and de-motivates volunteers\nUnderstand good practice in relation support and supervision\nRecognise and be able to manage a variety of difficult situations\nKnow when and how to terminate a volunteering relationship\nBe able to assess needs for training and development and recognise different ways of meeting these\nKnow how to give appropriate recognition to volunteers\n\nDate: Wednesday 30th March 2022 \nTime: 13:00pm-16:00pm \nThe training will be taking place on Microsoft Teams and the link will be sent through within 24 hours of the training taking place. \nYou can find more about the Community Food Retail training programme and eligibility criteria here Community Food Retail Package Leaflet \nTo find out more and to book this event\, click here: https://www.eventbrite.co.uk/e/getting-the-best-from-your-volunteers-tickets-267581201577 \nFor further enquiries\, contact C3SC on 07973 725 335 or enquiries@c3sc.org.uk \n___________________________________________________________________________________________________ \n Cael y Gorau o’ch Gwirfoddolwyr. \nBydd y sesiwn hyfforddi hwn yn gwella eich gwybodaeth ar gael y gorau o’ch gwirfoddolwyr.  \nAm y digwyddiad hwnBydd y sesiwn hyfforddi hwn yn gwella eich gwybodaeth ar gael y gorau o’ch gwirfoddolwyr. Byddai’n addas ar gyfer rheolwyr gwirfoddolwyr\, cydlynwyr\, goruchwylwyr\, arweinwyr tîm ac unigolion sy’n gyfrifol am recriwtio\, hyfforddi a rheoli gwirfoddolwyr. Mae croeso i wirfoddolwyr wneud cais a byddant yn cael lle\, ar sail y cyntaf i’r felin. Erbyn diwedd y cwrs\, byddwch yn:  \n\nDeall beth sy’n cymell a di-gymhelliant gwirfoddolwyr \nDeall arfer da mewn perthynas â chymorth a goruchwyliaeth \nAdnabod a gallu rheoli amrywiaeth o sefyllfaoedd anodd \nGwybod pryd a sut i derfynu perthynas wirfoddoli \nGallu asesu anghenion ar gyfer hyfforddiant a datblygiad ac adnabod gwahanol ffyrdd o gwrdd â’r rhain \nGwybod sut i roi cydnabyddiaeth briodol i wirfoddolwyr \n\nDyddiad: Dydd Mercher 30 Mawrth 2022 \nAmser: 13:00pm-16:00pm \nBydd yr hyfforddiant yn cael ei gynnal ar Microsoft Teams ac anfonir y ddolen o fewn 24 awr cyn cynnal yr hyfforddiant.  \nGallwch ddysgu mwy am raglen hyfforddiant a meini prawf Manwerthu Bwyd Cymunedol yma Taflen Pecyn Manwerthu Bwyd Cymunedol \nAm ymholiadau pellach\, cysylltwch â C3SC ar 07973 725 335 neu enquiries@c3sc.org.uk
URL:https://c3sc.org.uk/event-single/getting-the-best-from-your-volunteers-3/
ATTACH;FMTTYPE=image/png:https://c3sc.org.uk/wp-content/uploads/Twitter-Posts-9-2.png
END:VEVENT
END:VCALENDAR