BEGIN:VCALENDAR
VERSION:2.0
PRODID:-//C3SC - Cardiff Third Sector Council - ECPv6.15.17//NONSGML v1.0//EN
CALSCALE:GREGORIAN
METHOD:PUBLISH
X-WR-CALNAME:C3SC - Cardiff Third Sector Council
X-ORIGINAL-URL:https://c3sc.org.uk
X-WR-CALDESC:Events for C3SC - Cardiff Third Sector Council
REFRESH-INTERVAL;VALUE=DURATION:PT1H
X-Robots-Tag:noindex
X-PUBLISHED-TTL:PT1H
BEGIN:VTIMEZONE
TZID:Europe/London
BEGIN:DAYLIGHT
TZOFFSETFROM:+0000
TZOFFSETTO:+0100
TZNAME:BST
DTSTART:20210328T010000
END:DAYLIGHT
BEGIN:STANDARD
TZOFFSETFROM:+0100
TZOFFSETTO:+0000
TZNAME:GMT
DTSTART:20211031T010000
END:STANDARD
BEGIN:DAYLIGHT
TZOFFSETFROM:+0000
TZOFFSETTO:+0100
TZNAME:BST
DTSTART:20220327T010000
END:DAYLIGHT
BEGIN:STANDARD
TZOFFSETFROM:+0100
TZOFFSETTO:+0000
TZNAME:GMT
DTSTART:20221030T010000
END:STANDARD
BEGIN:DAYLIGHT
TZOFFSETFROM:+0000
TZOFFSETTO:+0100
TZNAME:BST
DTSTART:20230326T010000
END:DAYLIGHT
BEGIN:STANDARD
TZOFFSETFROM:+0100
TZOFFSETTO:+0000
TZNAME:GMT
DTSTART:20231029T010000
END:STANDARD
END:VTIMEZONE
BEGIN:VEVENT
DTSTART;TZID=Europe/London:20220324T140000
DTEND;TZID=Europe/London:20220324T163000
DTSTAMP:20260420T062825
CREATED:20211215T112341Z
LAST-MODIFIED:20220210T122502Z
UID:61909-1648130400-1648139400@c3sc.org.uk
SUMMARY:Getting the Best from your Volunteers
DESCRIPTION:The training will help you improve your knowledge on getting the best from your volunteers.\n\n\nThe training will help you improve your knowledge on Getting the Best from your Volunteers. It would be suitable for volunteer managers\, coordinators\, supervisors\, team leaders and individuals who have responsibility for recruiting\, training and managing volunteers. Volunteers are welcome to apply and will be allocated a space\, on a first come first served basis. By the end of the course\, you will:  \n\nUnderstand what motivates and de-motivates volunteers\n\nUnderstand good practice in relation support and supervision\n\nRecognise and be able to manage a variety of difficult situations\n\nKnow when and how to terminate a volunteering relationship\n\nBe able to assess needs for training and development and recognise different ways of meeting these\n\nKnow how to give appropriate recognition to volunteers\n\nDate: Thursday 24th March 2022 \nTime: 2 pm – 4:30 pm \nThe training will be taking place on Microsoft Teams and the link will be sent through within 24 hours of the training taking place. \nFor further enquiries\, contact C3SC on 07973 725 335 or enquiries@c3sc.org.uk \n \nJoining link below: \nhttps://teams.microsoft.com/l/meetup-join/19%3ameeting_YzcwYTM0NmUtY2ZlMC00OGExLThjZmEtYzY1YWRiMTYxZjcx%40thread.v2/0?context=%7b%22Tid%22%3a%228823efeb-04f9-4162-b5d1-337155ee1378%22%2c%22Oid%22%3a%2297b8ff2c-c5dc-4d5d-85d5-2c19a8d21f9d%22%7d
URL:https://c3sc.org.uk/event-single/getting-the-best-from-your-volunteers-2/
ATTACH;FMTTYPE=image/jpeg:https://c3sc.org.uk/wp-content/uploads/61909_image.jpg
END:VEVENT
END:VCALENDAR