BEGIN:VCALENDAR
VERSION:2.0
PRODID:-//C3SC - Cardiff Third Sector Council - ECPv6.15.17//NONSGML v1.0//EN
CALSCALE:GREGORIAN
METHOD:PUBLISH
X-WR-CALNAME:C3SC - Cardiff Third Sector Council
X-ORIGINAL-URL:https://c3sc.org.uk
X-WR-CALDESC:Events for C3SC - Cardiff Third Sector Council
REFRESH-INTERVAL;VALUE=DURATION:PT1H
X-Robots-Tag:noindex
X-PUBLISHED-TTL:PT1H
BEGIN:VTIMEZONE
TZID:Europe/London
BEGIN:DAYLIGHT
TZOFFSETFROM:+0000
TZOFFSETTO:+0100
TZNAME:BST
DTSTART:20180325T010000
END:DAYLIGHT
BEGIN:STANDARD
TZOFFSETFROM:+0100
TZOFFSETTO:+0000
TZNAME:GMT
DTSTART:20181028T010000
END:STANDARD
BEGIN:DAYLIGHT
TZOFFSETFROM:+0000
TZOFFSETTO:+0100
TZNAME:BST
DTSTART:20190331T010000
END:DAYLIGHT
BEGIN:STANDARD
TZOFFSETFROM:+0100
TZOFFSETTO:+0000
TZNAME:GMT
DTSTART:20191027T010000
END:STANDARD
BEGIN:DAYLIGHT
TZOFFSETFROM:+0000
TZOFFSETTO:+0100
TZNAME:BST
DTSTART:20200329T010000
END:DAYLIGHT
BEGIN:STANDARD
TZOFFSETFROM:+0100
TZOFFSETTO:+0000
TZNAME:GMT
DTSTART:20201025T010000
END:STANDARD
END:VTIMEZONE
BEGIN:VEVENT
DTSTART;TZID=Europe/London:20190327T100000
DTEND;TZID=Europe/London:20190327T150000
DTSTAMP:20260425T173306
CREATED:20190219T131722Z
LAST-MODIFIED:20190219T131722Z
UID:49944-1553680800-1553698800@c3sc.org.uk
SUMMARY:Gentle/Radical Film Club celebrates 15th Anniversary
DESCRIPTION:In 2019\, the Gentle/Radical Film Club celebrates 15 years of film activity! That means we’ve been running inclusive\, open and safe spaces for women (and men\, elders and young people) to come together and watch films since 2004! \nIn the month of International Women’s Day\, we invite women to celebrate their power\, passion and resilience at our anniversary celebration event! \nJoin us for a day of exciting activity to include short films\, spoken word poetry\, talks\, workshops and lunch. \n  \nTickets £3.50 / £5.50 \nFREE for asylum seeking women \nBuy tickets on the day \nCash only please\, no cards \nTO BOOK YOUR TICKETS / Creche \nPhone Radha on: 07539 076680 \nEmail: radha@gentleradical.org
URL:https://c3sc.org.uk/event-single/gentle-radical-film-club-celebrates-15th-anniversary/
LOCATION:Samaj Community Centre\, Grangetown\, CF11 6QT\, Samaj Community Centre\, Grangetown\, CF11 6QT
CATEGORIES:Event
END:VEVENT
END:VCALENDAR