BEGIN:VCALENDAR
VERSION:2.0
PRODID:-//C3SC - Cardiff Third Sector Council - ECPv6.15.17//NONSGML v1.0//EN
CALSCALE:GREGORIAN
METHOD:PUBLISH
X-WR-CALNAME:C3SC - Cardiff Third Sector Council
X-ORIGINAL-URL:https://c3sc.org.uk
X-WR-CALDESC:Events for C3SC - Cardiff Third Sector Council
REFRESH-INTERVAL;VALUE=DURATION:PT1H
X-Robots-Tag:noindex
X-PUBLISHED-TTL:PT1H
BEGIN:VTIMEZONE
TZID:Europe/London
BEGIN:DAYLIGHT
TZOFFSETFROM:+0000
TZOFFSETTO:+0100
TZNAME:BST
DTSTART:20110327T010000
END:DAYLIGHT
BEGIN:STANDARD
TZOFFSETFROM:+0100
TZOFFSETTO:+0000
TZNAME:GMT
DTSTART:20111030T010000
END:STANDARD
BEGIN:DAYLIGHT
TZOFFSETFROM:+0000
TZOFFSETTO:+0100
TZNAME:BST
DTSTART:20120325T010000
END:DAYLIGHT
BEGIN:STANDARD
TZOFFSETFROM:+0100
TZOFFSETTO:+0000
TZNAME:GMT
DTSTART:20121028T010000
END:STANDARD
BEGIN:DAYLIGHT
TZOFFSETFROM:+0000
TZOFFSETTO:+0100
TZNAME:BST
DTSTART:20130331T010000
END:DAYLIGHT
BEGIN:STANDARD
TZOFFSETFROM:+0100
TZOFFSETTO:+0000
TZNAME:GMT
DTSTART:20131027T010000
END:STANDARD
END:VTIMEZONE
BEGIN:VEVENT
DTSTART;TZID=Europe/London:20120426T090000
DTEND;TZID=Europe/London:20120426T153000
DTSTAMP:20260422T084118
CREATED:20120426T080000Z
LAST-MODIFIED:20120426T080000Z
UID:44403-1335430800-1335454200@c3sc.org.uk
SUMMARY:Funding your future: new European programmes and loan finance
DESCRIPTION:Almost £100m of European Structural Funds was accessed by the third sector during the current round of European funding. But  what will the 2014-2020 programmes look like? How can we influence the design of the new programmes\, and what funding opportunities are they likely to present? \nThis event will inform delegates about the developments that are taking place within the design of the new European programmes and will be of interest to any organisation planning their funding future. The event will also offer an opportunity to learn how loan finance\, through WCVA’s Communities Investment Fund\, can support third sector enterprise in Wales. \nPrice: £12 including buffet lunch. \nBookings need to be received by 5 April 2012. Find out more on the WCVA website.
URL:https://c3sc.org.uk/event-single/funding-your-future-new-european-programmes-and-loan-finance/
LOCATION:St. Margaret’s Park\, Aberbargoed\, St. Margaret’s Park\, Aberbargoed
CATEGORIES:Event
END:VEVENT
END:VCALENDAR