BEGIN:VCALENDAR
VERSION:2.0
PRODID:-//C3SC - Cardiff Third Sector Council - ECPv6.15.17//NONSGML v1.0//EN
CALSCALE:GREGORIAN
METHOD:PUBLISH
X-WR-CALNAME:C3SC - Cardiff Third Sector Council
X-ORIGINAL-URL:https://c3sc.org.uk
X-WR-CALDESC:Events for C3SC - Cardiff Third Sector Council
REFRESH-INTERVAL;VALUE=DURATION:PT1H
X-Robots-Tag:noindex
X-PUBLISHED-TTL:PT1H
BEGIN:VTIMEZONE
TZID:Europe/London
BEGIN:DAYLIGHT
TZOFFSETFROM:+0000
TZOFFSETTO:+0100
TZNAME:BST
DTSTART:20110327T010000
END:DAYLIGHT
BEGIN:STANDARD
TZOFFSETFROM:+0100
TZOFFSETTO:+0000
TZNAME:GMT
DTSTART:20111030T010000
END:STANDARD
BEGIN:DAYLIGHT
TZOFFSETFROM:+0000
TZOFFSETTO:+0100
TZNAME:BST
DTSTART:20120325T010000
END:DAYLIGHT
BEGIN:STANDARD
TZOFFSETFROM:+0100
TZOFFSETTO:+0000
TZNAME:GMT
DTSTART:20121028T010000
END:STANDARD
BEGIN:DAYLIGHT
TZOFFSETFROM:+0000
TZOFFSETTO:+0100
TZNAME:BST
DTSTART:20130331T010000
END:DAYLIGHT
BEGIN:STANDARD
TZOFFSETFROM:+0100
TZOFFSETTO:+0000
TZNAME:GMT
DTSTART:20131027T010000
END:STANDARD
END:VTIMEZONE
BEGIN:VEVENT
DTSTART;TZID=Europe/London:20120503T093000
DTEND;TZID=Europe/London:20120503T160000
DTSTAMP:20260423T034935
CREATED:20120503T083000Z
LAST-MODIFIED:20120503T083000Z
UID:44440-1336037400-1336060800@c3sc.org.uk
SUMMARY:Fuel Debt Advice course
DESCRIPTION:Riverside Advice\, in collaboration with British Gas Energy Trust\, is running a one day Fuel Debt Advice course.The course is aimed at individuals in charities\, housing associations\, health organisations and community groups who are not directly involved in an advisory role on the subject of energy efficiency. At the end of the session you will be able to: \n – ·Understand what fuel poverty is and the causes of fuel debt.  – ·Explain to your clients and service users\, fuel supplier obligations and customer responsibilities\, payment options\, bills\, billing errors.  – ·How to make a complaint  – ·How to access funding through trusts and grants There are 20 places available on the course. If you or someone from your organisation would like to attend\, please contact Riverside advice. The price is £15 per person. Tea\, coffee and buffet will be provided.
URL:https://c3sc.org.uk/event-single/fuel-debt-advice-course/
LOCATION:71 Bridge Street\, Cardiff CF10 2TS\, 71 Bridge Street\, Cardiff CF10 2TS
CATEGORIES:Training
END:VEVENT
END:VCALENDAR