BEGIN:VCALENDAR
VERSION:2.0
PRODID:-//C3SC - Cardiff Third Sector Council - ECPv6.15.17//NONSGML v1.0//EN
CALSCALE:GREGORIAN
METHOD:PUBLISH
X-WR-CALNAME:C3SC - Cardiff Third Sector Council
X-ORIGINAL-URL:https://c3sc.org.uk
X-WR-CALDESC:Events for C3SC - Cardiff Third Sector Council
REFRESH-INTERVAL;VALUE=DURATION:PT1H
X-Robots-Tag:noindex
X-PUBLISHED-TTL:PT1H
BEGIN:VTIMEZONE
TZID:Europe/London
BEGIN:DAYLIGHT
TZOFFSETFROM:+0000
TZOFFSETTO:+0100
TZNAME:BST
DTSTART:20110327T010000
END:DAYLIGHT
BEGIN:STANDARD
TZOFFSETFROM:+0100
TZOFFSETTO:+0000
TZNAME:GMT
DTSTART:20111030T010000
END:STANDARD
BEGIN:DAYLIGHT
TZOFFSETFROM:+0000
TZOFFSETTO:+0100
TZNAME:BST
DTSTART:20120325T010000
END:DAYLIGHT
BEGIN:STANDARD
TZOFFSETFROM:+0100
TZOFFSETTO:+0000
TZNAME:GMT
DTSTART:20121028T010000
END:STANDARD
BEGIN:DAYLIGHT
TZOFFSETFROM:+0000
TZOFFSETTO:+0100
TZNAME:BST
DTSTART:20130331T010000
END:DAYLIGHT
BEGIN:STANDARD
TZOFFSETFROM:+0100
TZOFFSETTO:+0000
TZNAME:GMT
DTSTART:20131027T010000
END:STANDARD
END:VTIMEZONE
BEGIN:VEVENT
DTSTART;TZID=Europe/London:20120427T100000
DTEND;TZID=Europe/London:20120427T123000
DTSTAMP:20260424T170231
CREATED:20120427T090000Z
LAST-MODIFIED:20120427T090000Z
UID:44423-1335520800-1335529800@c3sc.org.uk
SUMMARY:Friendly AdvantAGE
DESCRIPTION:This is an invitation to the VCVS and Partners Friendly AdvantAGE Befriending Project launch event. This is an exciting and innovative new project that has 4 year funding from the Big Lottery AdvantAGE Programme.We will be joined by Jane Hutt AM\, who is kindly sponsoring the event.Please remember space is limited so RSVP by Monday 12th March 2012 to cath@valecvs.org.uk  
URL:https://c3sc.org.uk/event-single/friendly-advantage/
LOCATION:Senedd\, Cardiff Bay\, Senedd\, Cardiff Bay
CATEGORIES:Event
END:VEVENT
END:VCALENDAR