BEGIN:VCALENDAR
VERSION:2.0
PRODID:-//C3SC - Cardiff Third Sector Council - ECPv6.15.17//NONSGML v1.0//EN
CALSCALE:GREGORIAN
METHOD:PUBLISH
X-WR-CALNAME:C3SC - Cardiff Third Sector Council
X-ORIGINAL-URL:https://c3sc.org.uk
X-WR-CALDESC:Events for C3SC - Cardiff Third Sector Council
REFRESH-INTERVAL;VALUE=DURATION:PT1H
X-Robots-Tag:noindex
X-PUBLISHED-TTL:PT1H
BEGIN:VTIMEZONE
TZID:Europe/London
BEGIN:DAYLIGHT
TZOFFSETFROM:+0000
TZOFFSETTO:+0100
TZNAME:BST
DTSTART:20160327T010000
END:DAYLIGHT
BEGIN:STANDARD
TZOFFSETFROM:+0100
TZOFFSETTO:+0000
TZNAME:GMT
DTSTART:20161030T010000
END:STANDARD
BEGIN:DAYLIGHT
TZOFFSETFROM:+0000
TZOFFSETTO:+0100
TZNAME:BST
DTSTART:20170326T010000
END:DAYLIGHT
BEGIN:STANDARD
TZOFFSETFROM:+0100
TZOFFSETTO:+0000
TZNAME:GMT
DTSTART:20171029T010000
END:STANDARD
BEGIN:DAYLIGHT
TZOFFSETFROM:+0000
TZOFFSETTO:+0100
TZNAME:BST
DTSTART:20180325T010000
END:DAYLIGHT
BEGIN:STANDARD
TZOFFSETFROM:+0100
TZOFFSETTO:+0000
TZNAME:GMT
DTSTART:20181028T010000
END:STANDARD
END:VTIMEZONE
BEGIN:VEVENT
DTSTART;TZID=Europe/London:20170912T093000
DTEND;TZID=Europe/London:20170912T123000
DTSTAMP:20260426T002354
CREATED:20170803T085927Z
LAST-MODIFIED:20170803T085927Z
UID:49354-1505208600-1505219400@c3sc.org.uk
SUMMARY:FREE Turn2us Benefits Calculator and Grants Search workshop
DESCRIPTION:If you are a staff member or volunteer offering frontline advice\, support or information to people in financial need\, join Turn2us for a free 3-hour workshop and learn how to use: \n\nThe Turn2us Benefits Calculator\nThe Grants Search tool\nThe website to access other information including how Universal Credit might affect your service users\n\nWith these easy-to-use web tools you will be able to help people access benefits\, grants and other forms of financial help. \nTo book please visit www.turn2us.org.uk/turn2us-workshops
URL:https://c3sc.org.uk/event-single/free-turn2us-benefits-calculator-and-grants-search-workshop/
LOCATION:Cardiff Central Library\, The Hayes\, Cardiff CF10 1FL\, Cardiff Central Library\, The Hayes\, Cardiff CF10 1FL
CATEGORIES:Training
END:VEVENT
END:VCALENDAR