BEGIN:VCALENDAR
VERSION:2.0
PRODID:-//C3SC - Cardiff Third Sector Council - ECPv6.15.17//NONSGML v1.0//EN
CALSCALE:GREGORIAN
METHOD:PUBLISH
X-WR-CALNAME:C3SC - Cardiff Third Sector Council
X-ORIGINAL-URL:https://c3sc.org.uk
X-WR-CALDESC:Events for C3SC - Cardiff Third Sector Council
REFRESH-INTERVAL;VALUE=DURATION:PT1H
X-Robots-Tag:noindex
X-PUBLISHED-TTL:PT1H
BEGIN:VTIMEZONE
TZID:Europe/London
BEGIN:DAYLIGHT
TZOFFSETFROM:+0000
TZOFFSETTO:+0100
TZNAME:BST
DTSTART:20110327T010000
END:DAYLIGHT
BEGIN:STANDARD
TZOFFSETFROM:+0100
TZOFFSETTO:+0000
TZNAME:GMT
DTSTART:20111030T010000
END:STANDARD
BEGIN:DAYLIGHT
TZOFFSETFROM:+0000
TZOFFSETTO:+0100
TZNAME:BST
DTSTART:20120325T010000
END:DAYLIGHT
BEGIN:STANDARD
TZOFFSETFROM:+0100
TZOFFSETTO:+0000
TZNAME:GMT
DTSTART:20121028T010000
END:STANDARD
BEGIN:DAYLIGHT
TZOFFSETFROM:+0000
TZOFFSETTO:+0100
TZNAME:BST
DTSTART:20130331T010000
END:DAYLIGHT
BEGIN:STANDARD
TZOFFSETFROM:+0100
TZOFFSETTO:+0000
TZNAME:GMT
DTSTART:20131027T010000
END:STANDARD
END:VTIMEZONE
BEGIN:VEVENT
DTSTART;TZID=Europe/London:20120726T110000
DTEND;TZID=Europe/London:20120726T130000
DTSTAMP:20260423T125028
CREATED:20120726T100000Z
LAST-MODIFIED:20120726T100000Z
UID:44750-1343300400-1343307600@c3sc.org.uk
SUMMARY:FREE seminar: Working with the new Destitution Domestic Violence (DDV) Concession to support people with NRPF
DESCRIPTION:In April\, the Home Office launched the Destitution Domestic Violence (DDV) Concession\, where women on a spousal visa who are destitute and have experienced domestic violence can apply for access to public funds while they complete an application for Independent Leave to Remain in the UK.  \nHosted by the Abolish No Recourse to Public Funds Campaign\, this seminar will discuss the conditions of the DDV Concession and how it will impact on organisations who work with women with no recourse to public funds. This seminar is open to all\, but would be particularly useful for women’s organisations\, local authorities\, Job Centre Plus staff and immigration\, benefits and legal advice services.  \nThe seminar will be a great opportunity to share your views\, experiences and concerns with experts and representatives from central and local government during a panel discussion. Invited speakers include representatives from the UK Border Agency (UKBA)\, Department for Work and Pensions.  \nTo book a place at the seminar\, please email Mwenya@bawso.org.uk
URL:https://c3sc.org.uk/event-single/free-seminar-working-with-the-new-destitution-domestic-violence-ddv-concession-to-support-people-with-nrpf/
LOCATION:EHRC\, 3 Callaghan Square\, Cardiff CF10 5BT\, EHRC\, 3 Callaghan Square\, Cardiff CF10 5BT
CATEGORIES:Event
END:VEVENT
END:VCALENDAR