BEGIN:VCALENDAR
VERSION:2.0
PRODID:-//C3SC - Cardiff Third Sector Council - ECPv6.15.17//NONSGML v1.0//EN
CALSCALE:GREGORIAN
METHOD:PUBLISH
X-WR-CALNAME:C3SC - Cardiff Third Sector Council
X-ORIGINAL-URL:https://c3sc.org.uk
X-WR-CALDESC:Events for C3SC - Cardiff Third Sector Council
REFRESH-INTERVAL;VALUE=DURATION:PT1H
X-Robots-Tag:noindex
X-PUBLISHED-TTL:PT1H
BEGIN:VTIMEZONE
TZID:Europe/London
BEGIN:DAYLIGHT
TZOFFSETFROM:+0000
TZOFFSETTO:+0100
TZNAME:BST
DTSTART:20180325T010000
END:DAYLIGHT
BEGIN:STANDARD
TZOFFSETFROM:+0100
TZOFFSETTO:+0000
TZNAME:GMT
DTSTART:20181028T010000
END:STANDARD
BEGIN:DAYLIGHT
TZOFFSETFROM:+0000
TZOFFSETTO:+0100
TZNAME:BST
DTSTART:20190331T010000
END:DAYLIGHT
BEGIN:STANDARD
TZOFFSETFROM:+0100
TZOFFSETTO:+0000
TZNAME:GMT
DTSTART:20191027T010000
END:STANDARD
BEGIN:DAYLIGHT
TZOFFSETFROM:+0000
TZOFFSETTO:+0100
TZNAME:BST
DTSTART:20200329T010000
END:DAYLIGHT
BEGIN:STANDARD
TZOFFSETFROM:+0100
TZOFFSETTO:+0000
TZNAME:GMT
DTSTART:20201025T010000
END:STANDARD
END:VTIMEZONE
BEGIN:VEVENT
DTSTART;TZID=Europe/London:20190222T110000
DTEND;TZID=Europe/London:20190222T130000
DTSTAMP:20260423T075034
CREATED:20190212T102250Z
LAST-MODIFIED:20190212T102250Z
UID:49931-1550833200-1550840400@c3sc.org.uk
SUMMARY:Focus Group: The Badge Scheme
DESCRIPTION:The Equality\, Local Government and Communities Committee is currently looking at how the Blue Badge Scheme operates in Wales\, and they want to hear from you! \nThe Blue Badge Scheme provides a national arrangement of parking concessions for disabled people. In Wales\, the Welsh Government is responsible for the Scheme\, but it is administered by individual local authorities who issue the badges.  \nThe Committee is looking carefully at a number of different aspects – the impact of extending the eligibility criteria for a Blue Badge in Wales\, the support and information available to Blue Badge applicants\, and how different local authority areas deal with assessments\, fees and enforcement. \nWe would love to hear from you.  Your voice matters and can influence the work of the Committee and the recommendations it makes to the Welsh Government. We would like to invite you to take part in a focus group. \nWe would like to hear from people who have; recently renewed or applied for a blue badge\, have lost their blue badge\, people not receiving PIP (Personal Independence Payment) who have tried to apply for a badge  and temporary blue badge holders.  \nIf you would like to come along to the focus group\, or have any questions\, please e-mail Ruth.nortey@disabilitywales.org. \n  \nplease find below the link to our online survey on the Welsh Blue Badge Scheme. \nWe realise that many people will not be able to attend the focus group and we would be grateful if you could take the time to complete the short survey and tell us your thoughts and experiences on the current Blue Badge Scheme in Wales and how the system could be improved.  \nYou can access the survey here: https://www.surveymonkey.co.uk/r/JPDPFPP
URL:https://c3sc.org.uk/event-single/focus-group-the-badge-scheme/
LOCATION:Disability Wales\, Brydon House\,Block B\, Caerpfilly Business Park\, Van Road\, Caerphilly\, CF83 3ED\, Disability Wales\, Brydon House\,Block B\, Caerpfilly Business Park\, Van Road\, Caerphilly\, CF83 3ED
CATEGORIES:Event
END:VEVENT
END:VCALENDAR