BEGIN:VCALENDAR
VERSION:2.0
PRODID:-//C3SC - Cardiff Third Sector Council - ECPv6.15.17//NONSGML v1.0//EN
CALSCALE:GREGORIAN
METHOD:PUBLISH
X-WR-CALNAME:C3SC - Cardiff Third Sector Council
X-ORIGINAL-URL:https://c3sc.org.uk
X-WR-CALDESC:Events for C3SC - Cardiff Third Sector Council
REFRESH-INTERVAL;VALUE=DURATION:PT1H
X-Robots-Tag:noindex
X-PUBLISHED-TTL:PT1H
BEGIN:VTIMEZONE
TZID:Europe/London
BEGIN:DAYLIGHT
TZOFFSETFROM:+0000
TZOFFSETTO:+0100
TZNAME:BST
DTSTART:20180325T010000
END:DAYLIGHT
BEGIN:STANDARD
TZOFFSETFROM:+0100
TZOFFSETTO:+0000
TZNAME:GMT
DTSTART:20181028T010000
END:STANDARD
BEGIN:DAYLIGHT
TZOFFSETFROM:+0000
TZOFFSETTO:+0100
TZNAME:BST
DTSTART:20190331T010000
END:DAYLIGHT
BEGIN:STANDARD
TZOFFSETFROM:+0100
TZOFFSETTO:+0000
TZNAME:GMT
DTSTART:20191027T010000
END:STANDARD
BEGIN:DAYLIGHT
TZOFFSETFROM:+0000
TZOFFSETTO:+0100
TZNAME:BST
DTSTART:20200329T010000
END:DAYLIGHT
BEGIN:STANDARD
TZOFFSETFROM:+0100
TZOFFSETTO:+0000
TZNAME:GMT
DTSTART:20201025T010000
END:STANDARD
END:VTIMEZONE
BEGIN:VEVENT
DTSTART;TZID=Europe/London:20190212T093000
DTEND;TZID=Europe/London:20190212T134500
DTSTAMP:20260423T075031
CREATED:20190115T160706Z
LAST-MODIFIED:20190115T160706Z
UID:49886-1549963800-1549979100@c3sc.org.uk
SUMMARY:First Aid: Emergency Life Support
DESCRIPTION:First Aid: Emergency Life Support \nTuesday 12th February from 9.30am to 1.45pm \nThe course covers: \n\nBleeding – Severe\nChest pains\nChoking\nCommunication and casualty care\nPrimary Survey\nResuscitation\nUnconscious casualty\nShock\n\nBook online \nAlternatively\, email training@c3sc.org.uk or call us on (029) 2048 5722.
URL:https://c3sc.org.uk/event-single/first-aid-emergency-life-support-2/
LOCATION:C3SC Offices (Baltic House)\, C3SC Offices (Baltic House)
CATEGORIES:Training
END:VEVENT
END:VCALENDAR