BEGIN:VCALENDAR
VERSION:2.0
PRODID:-//C3SC - Cardiff Third Sector Council - ECPv6.15.17//NONSGML v1.0//EN
CALSCALE:GREGORIAN
METHOD:PUBLISH
X-WR-CALNAME:C3SC - Cardiff Third Sector Council
X-ORIGINAL-URL:https://c3sc.org.uk
X-WR-CALDESC:Events for C3SC - Cardiff Third Sector Council
REFRESH-INTERVAL;VALUE=DURATION:PT1H
X-Robots-Tag:noindex
X-PUBLISHED-TTL:PT1H
BEGIN:VTIMEZONE
TZID:Europe/London
BEGIN:DAYLIGHT
TZOFFSETFROM:+0000
TZOFFSETTO:+0100
TZNAME:BST
DTSTART:20180325T010000
END:DAYLIGHT
BEGIN:STANDARD
TZOFFSETFROM:+0100
TZOFFSETTO:+0000
TZNAME:GMT
DTSTART:20181028T010000
END:STANDARD
BEGIN:DAYLIGHT
TZOFFSETFROM:+0000
TZOFFSETTO:+0100
TZNAME:BST
DTSTART:20190331T010000
END:DAYLIGHT
BEGIN:STANDARD
TZOFFSETFROM:+0100
TZOFFSETTO:+0000
TZNAME:GMT
DTSTART:20191027T010000
END:STANDARD
BEGIN:DAYLIGHT
TZOFFSETFROM:+0000
TZOFFSETTO:+0100
TZNAME:BST
DTSTART:20200329T010000
END:DAYLIGHT
BEGIN:STANDARD
TZOFFSETFROM:+0100
TZOFFSETTO:+0000
TZNAME:GMT
DTSTART:20201025T010000
END:STANDARD
END:VTIMEZONE
BEGIN:VEVENT
DTSTART;TZID=Europe/London:20190329T093000
DTEND;TZID=Europe/London:20190329T140000
DTSTAMP:20260423T062349
CREATED:20190307T093151Z
LAST-MODIFIED:20190307T093151Z
UID:49956-1553851800-1553868000@c3sc.org.uk
SUMMARY:FGM Safeguarding Conference
DESCRIPTION:You are invited to the FGM Safeguarding conference on 29th March\, 9.30am to 2pm \nBy BAWSO in partnership with Swansea City and County Social Services. \nTo book your place please visit our Eventbrite page. \n  \nFor more information or queries\, contact Evelyn Namatovu via email: publicity.event@bawso.org.uk or Tel: 02920 644633
URL:https://c3sc.org.uk/event-single/fgm-safeguarding-conference/
LOCATION:Lord Mayor’s Reception Rooms\, Brangwyn Hall\, The Guildhall\, Swansea.\, Lord Mayor's Reception Rooms\, Brangwyn Hall\, The Guildhall\, Swansea.
CATEGORIES:Conference
END:VEVENT
END:VCALENDAR