BEGIN:VCALENDAR
VERSION:2.0
PRODID:-//C3SC - Cardiff Third Sector Council - ECPv6.15.17//NONSGML v1.0//EN
CALSCALE:GREGORIAN
METHOD:PUBLISH
X-WR-CALNAME:C3SC - Cardiff Third Sector Council
X-ORIGINAL-URL:https://c3sc.org.uk
X-WR-CALDESC:Events for C3SC - Cardiff Third Sector Council
REFRESH-INTERVAL;VALUE=DURATION:PT1H
X-Robots-Tag:noindex
X-PUBLISHED-TTL:PT1H
BEGIN:VTIMEZONE
TZID:Europe/London
BEGIN:DAYLIGHT
TZOFFSETFROM:+0000
TZOFFSETTO:+0100
TZNAME:BST
DTSTART:20190331T010000
END:DAYLIGHT
BEGIN:STANDARD
TZOFFSETFROM:+0100
TZOFFSETTO:+0000
TZNAME:GMT
DTSTART:20191027T010000
END:STANDARD
BEGIN:DAYLIGHT
TZOFFSETFROM:+0000
TZOFFSETTO:+0100
TZNAME:BST
DTSTART:20200329T010000
END:DAYLIGHT
BEGIN:STANDARD
TZOFFSETFROM:+0100
TZOFFSETTO:+0000
TZNAME:GMT
DTSTART:20201025T010000
END:STANDARD
BEGIN:DAYLIGHT
TZOFFSETFROM:+0000
TZOFFSETTO:+0100
TZNAME:BST
DTSTART:20210328T010000
END:DAYLIGHT
BEGIN:STANDARD
TZOFFSETFROM:+0100
TZOFFSETTO:+0000
TZNAME:GMT
DTSTART:20211031T010000
END:STANDARD
END:VTIMEZONE
BEGIN:VEVENT
DTSTART;TZID=Europe/London:20200116T120000
DTEND;TZID=Europe/London:20200116T160000
DTSTAMP:20260423T185245
CREATED:20191128T105708Z
LAST-MODIFIED:20191128T105708Z
UID:50346-1579176000-1579190400@c3sc.org.uk
SUMMARY:Exploring the Impact of Brexit on BME Communities in Wales/  Chwilota Effaith Brexit ar Gymunedau BME yng Nghymru
DESCRIPTION:(Via WCVA)  \nExploring the Impact of Brexit on BME Communities in Wales \nThe Ethnic Youth Support Team\, Race Council Cymru\, Show Racism the Red Card and the Wales Civil Society Forum on Brexit are hosting a free event\, open to organisations and community members on 16 January from 12:00 to 16:00 at the Pierhead Building in Cardiff Bay to explore the impact that Brexit is having on BME communities in Wales. We are also pleased that we will be joined by Jeremy Miles AM\, Counsel General and Brexit Minister\, and Jane Hutt AM\, Deputy Minister and Chief Whip. \nA light lunch will be provided. Panel and agenda to follow soon. \nPlease click here to register \n\n Chwilota Effaith Brexit ar Gymunedau BME yng Nghymru\nMae’r Tîm Cefnogi Ieuenctid Ethnig\, Race Council Cymru\, Show Racism the Red Card a Fforwm Cymdeithas Sifil Cymru yn cynnal digwyddiad am ddim\, sydd yn agored i sefydliadau ac aelodau o’r gymuned ar Ionawr 16 o 12:00 tan 16:00 yn adeilad Pen y Lanfa ym Mae Caerdydd er mwyn chwilota’r effaith mae Brexit yn ei gael ar gymunedau BME yng Nghymru. Rydym hefyd yn falch o groesawu Jeremy Miles AC\, y Cwnsler Cyffredinol a’r Gweinidog Brexit a Jane Hutt AC\, y Dirprwy Weinidog a’r Prif Chwip. \nCaiff cinio ysgafn ei ddarparu. Panel ac agenda i ddilyn cyn bo hir. \nCliciwch yma i gofrestru.
URL:https://c3sc.org.uk/event-single/exploring-the-impact-of-brexit-on-bme-communities-in-wales-chwilota-effaith-brexit-ar-gymunedau-bme-yng-nghymru/
CATEGORIES:Event
END:VEVENT
END:VCALENDAR