BEGIN:VCALENDAR
VERSION:2.0
PRODID:-//C3SC - Cardiff Third Sector Council - ECPv6.15.17//NONSGML v1.0//EN
CALSCALE:GREGORIAN
METHOD:PUBLISH
X-WR-CALNAME:C3SC - Cardiff Third Sector Council
X-ORIGINAL-URL:https://c3sc.org.uk
X-WR-CALDESC:Events for C3SC - Cardiff Third Sector Council
REFRESH-INTERVAL;VALUE=DURATION:PT1H
X-Robots-Tag:noindex
X-PUBLISHED-TTL:PT1H
BEGIN:VTIMEZONE
TZID:Europe/London
BEGIN:DAYLIGHT
TZOFFSETFROM:+0000
TZOFFSETTO:+0100
TZNAME:BST
DTSTART:20180325T010000
END:DAYLIGHT
BEGIN:STANDARD
TZOFFSETFROM:+0100
TZOFFSETTO:+0000
TZNAME:GMT
DTSTART:20181028T010000
END:STANDARD
BEGIN:DAYLIGHT
TZOFFSETFROM:+0000
TZOFFSETTO:+0100
TZNAME:BST
DTSTART:20190331T010000
END:DAYLIGHT
BEGIN:STANDARD
TZOFFSETFROM:+0100
TZOFFSETTO:+0000
TZNAME:GMT
DTSTART:20191027T010000
END:STANDARD
BEGIN:DAYLIGHT
TZOFFSETFROM:+0000
TZOFFSETTO:+0100
TZNAME:BST
DTSTART:20200329T010000
END:DAYLIGHT
BEGIN:STANDARD
TZOFFSETFROM:+0100
TZOFFSETTO:+0000
TZNAME:GMT
DTSTART:20201025T010000
END:STANDARD
END:VTIMEZONE
BEGIN:VEVENT
DTSTART;TZID=Europe/London:20190130T123000
DTEND;TZID=Europe/London:20190130T160000
DTSTAMP:20260423T031953
CREATED:20190115T154950Z
LAST-MODIFIED:20190115T154950Z
UID:49882-1548851400-1548864000@c3sc.org.uk
SUMMARY:Disclosure and Barring Service (DBS) Information Session
DESCRIPTION:Disclosure and Barring Service (DBS) Information Session \nWednesday 30th January from 12.30pm to 4pm \nLearning Outcomes: \n\nHow does a DBS check contribute to safeguarding (what it is\, what it can tell us\, what it is not)\nUsing DBS checks to make a placement/employment decision (regulated activity\, risk assessment\, relevant offences)\nBest practice in response to DBS check content\n\nBook online \nAlternatively\, email training@c3sc.org.uk or call us on (029) 2048 5722.
URL:https://c3sc.org.uk/event-single/disclosure-and-barring-service-dbs-information-session/
LOCATION:C3SC Offices (Baltic House)\, C3SC Offices (Baltic House)
CATEGORIES:Training
END:VEVENT
END:VCALENDAR