BEGIN:VCALENDAR
VERSION:2.0
PRODID:-//C3SC - Cardiff Third Sector Council - ECPv6.15.17//NONSGML v1.0//EN
CALSCALE:GREGORIAN
METHOD:PUBLISH
X-WR-CALNAME:C3SC - Cardiff Third Sector Council
X-ORIGINAL-URL:https://c3sc.org.uk
X-WR-CALDESC:Events for C3SC - Cardiff Third Sector Council
REFRESH-INTERVAL;VALUE=DURATION:PT1H
X-Robots-Tag:noindex
X-PUBLISHED-TTL:PT1H
BEGIN:VTIMEZONE
TZID:Europe/London
BEGIN:DAYLIGHT
TZOFFSETFROM:+0000
TZOFFSETTO:+0100
TZNAME:BST
DTSTART:20180325T010000
END:DAYLIGHT
BEGIN:STANDARD
TZOFFSETFROM:+0100
TZOFFSETTO:+0000
TZNAME:GMT
DTSTART:20181028T010000
END:STANDARD
BEGIN:DAYLIGHT
TZOFFSETFROM:+0000
TZOFFSETTO:+0100
TZNAME:BST
DTSTART:20190331T010000
END:DAYLIGHT
BEGIN:STANDARD
TZOFFSETFROM:+0100
TZOFFSETTO:+0000
TZNAME:GMT
DTSTART:20191027T010000
END:STANDARD
BEGIN:DAYLIGHT
TZOFFSETFROM:+0000
TZOFFSETTO:+0100
TZNAME:BST
DTSTART:20200329T010000
END:DAYLIGHT
BEGIN:STANDARD
TZOFFSETFROM:+0100
TZOFFSETTO:+0000
TZNAME:GMT
DTSTART:20201025T010000
END:STANDARD
END:VTIMEZONE
BEGIN:VEVENT
DTSTART;TZID=Europe/London:20190312T130000
DTEND;TZID=Europe/London:20190312T235959
DTSTAMP:20260425T144621
CREATED:20190115T163207Z
LAST-MODIFIED:20190115T163207Z
UID:49894-1552395600-1552435199@c3sc.org.uk
SUMMARY:Creating a Healthy Weight Framework for Cardiff and the Vale of Glamorgan
DESCRIPTION:Together we have already made really good progress across Cardiff and the Vale of Glamorgan\, in keeping people healthy and well\, through our wellbeing plans\, our Area Plans and our organisational plans\, but we have much more to do if we want to be the best in Wales\, the UK and to be an exemplar of good practice internationally.\n \nPlease can you save the following date in your diary:\n \n·         Tuesday 12th March 2019 at 1pm for the Cardiff workshop. The venue for this workshop is Star Hub\, Muirton Road\, Splott\, Cardiff CF24 2SJ.\n \nA healthy lunch will be provided.\n \nOne of our challenges is how we can encourage and support people to achieve a healthy weight\, creating healthy opportunities and environments around food and physical activity. It is a key part of well-being\, right from pre-birth\, through to teenage years\, adulthood and older age. Unhealthy weight is becoming the norm. We want to set the challenge of how we can collectively do all that we can to create change across our organisations and teams in delivering action on healthy weight.\n \nCome and help us to get that right\, be part of our conversation to get our joint actions for the next 4-5 years!
URL:https://c3sc.org.uk/event-single/creating-a-healthy-weight-framework-for-cardiff-and-the-vale-of-glamorgan/
LOCATION:STAR Hub\, Cardiff\, STAR Hub\, Cardiff
CATEGORIES:Event
END:VEVENT
END:VCALENDAR