BEGIN:VCALENDAR
VERSION:2.0
PRODID:-//C3SC - Cardiff Third Sector Council - ECPv6.15.17//NONSGML v1.0//EN
CALSCALE:GREGORIAN
METHOD:PUBLISH
X-WR-CALNAME:C3SC - Cardiff Third Sector Council
X-ORIGINAL-URL:https://c3sc.org.uk
X-WR-CALDESC:Events for C3SC - Cardiff Third Sector Council
REFRESH-INTERVAL;VALUE=DURATION:PT1H
X-Robots-Tag:noindex
X-PUBLISHED-TTL:PT1H
BEGIN:VTIMEZONE
TZID:Europe/London
BEGIN:DAYLIGHT
TZOFFSETFROM:+0000
TZOFFSETTO:+0100
TZNAME:BST
DTSTART:20110327T010000
END:DAYLIGHT
BEGIN:STANDARD
TZOFFSETFROM:+0100
TZOFFSETTO:+0000
TZNAME:GMT
DTSTART:20111030T010000
END:STANDARD
BEGIN:DAYLIGHT
TZOFFSETFROM:+0000
TZOFFSETTO:+0100
TZNAME:BST
DTSTART:20120325T010000
END:DAYLIGHT
BEGIN:STANDARD
TZOFFSETFROM:+0100
TZOFFSETTO:+0000
TZNAME:GMT
DTSTART:20121028T010000
END:STANDARD
BEGIN:DAYLIGHT
TZOFFSETFROM:+0000
TZOFFSETTO:+0100
TZNAME:BST
DTSTART:20130331T010000
END:DAYLIGHT
BEGIN:STANDARD
TZOFFSETFROM:+0100
TZOFFSETTO:+0000
TZNAME:GMT
DTSTART:20131027T010000
END:STANDARD
END:VTIMEZONE
BEGIN:VEVENT
DTSTART;VALUE=DATE:20120626
DTEND;VALUE=DATE:20120627
DTSTAMP:20260425T162603
CREATED:20120625T230000Z
LAST-MODIFIED:20120625T230000Z
UID:44628-1340668800-1340755199@c3sc.org.uk
SUMMARY:Countryside Educational Visits Accreditation Scheme (CEVAS)
DESCRIPTION:A two-day training course to prepare farmers\, community gardeners and countryside staff for hosting school visits. The second day of this course is on 10th July 2012. \nThis course is organized by FACE on behalf of the Access to Farms Partnership. It is sponsored by Monmouthshire County Council and the Rural Development Plan for Wales 2007-2013\, which is funded by the Welsh Government and the EuropeanAgricultural Fund for Rural Development.
URL:https://c3sc.org.uk/event-single/countryside-educational-visits-accreditation-scheme-cevas/
LOCATION:Llananant Farm\, Kincoed\, Raglan\, NP15 2EZ\, Llananant Farm\, Kincoed\, Raglan\, NP15 2EZ
CATEGORIES:Training
END:VEVENT
END:VCALENDAR